Package: AIMS Version: 1.40.0 Command: /Library/Frameworks/R.framework/Resources/bin/R CMD INSTALL AIMS StartedAt: 2025-10-13 15:22:50 -0400 (Mon, 13 Oct 2025) EndedAt: 2025-10-13 15:22:58 -0400 (Mon, 13 Oct 2025) EllapsedTime: 7.2 seconds RetCode: 0 Status: OK