Package: AIMS Version: 1.40.0 Command: /home/biocbuild/R/R/bin/R CMD INSTALL AIMS StartedAt: 2025-10-13 20:24:31 -0000 (Mon, 13 Oct 2025) EndedAt: 2025-10-13 20:24:35 -0000 (Mon, 13 Oct 2025) EllapsedTime: 3.9 seconds RetCode: 0 Status: OK