Package: AIMS Version: 1.40.0 Command: /Library/Frameworks/R.framework/Resources/bin/R CMD check --install=check:AIMS.install-out.txt --library=/Library/Frameworks/R.framework/Resources/library --no-vignettes --timings AIMS_1.40.0.tar.gz StartedAt: 2025-10-14 12:22:22 -0400 (Tue, 14 Oct 2025) EndedAt: 2025-10-14 12:22:58 -0400 (Tue, 14 Oct 2025) EllapsedTime: 35.9 seconds RetCode: 0 Status: OK CheckDir: AIMS.Rcheck Warnings: 0