Package: AGDEX Version: 1.56.0 Command: /home/biocbuild/R/R/bin/R CMD INSTALL AGDEX StartedAt: 2025-10-13 20:44:36 -0000 (Mon, 13 Oct 2025) EndedAt: 2025-10-13 20:44:57 -0000 (Mon, 13 Oct 2025) EllapsedTime: 20.9 seconds RetCode: 0 Status: OK