Package: AGDEX Version: 1.56.0 Command: /Library/Frameworks/R.framework/Resources/bin/R CMD INSTALL AGDEX StartedAt: 2025-10-13 15:52:27 -0400 (Mon, 13 Oct 2025) EndedAt: 2025-10-13 15:52:45 -0400 (Mon, 13 Oct 2025) EllapsedTime: 17.6 seconds RetCode: 0 Status: OK