Package: ADAPT Version: 1.2.0 Command: rm -rf ADAPT.buildbin-libdir && mkdir ADAPT.buildbin-libdir && E:\biocbuild\bbs-3.21-bioc\R\bin\R.exe CMD INSTALL --build --library=ADAPT.buildbin-libdir ADAPT_1.2.0.tar.gz StartedAt: 2025-08-15 08:43:01 -0400 (Fri, 15 Aug 2025) EndedAt: 2025-08-15 08:46:10 -0400 (Fri, 15 Aug 2025) EllapsedTime: 188.8 seconds RetCode: 0 Status: OK PackageFile: ADAPT_1.2.0.zip PackageFileSize: 1.019 MiB