Package: ADAPT Version: 1.2.0 Command: /home/biocbuild/bbs-3.21-bioc/R/bin/R CMD check --install=check:ADAPT.install-out.txt --library=/home/biocbuild/bbs-3.21-bioc/R/site-library --timings ADAPT_1.2.0.tar.gz StartedAt: 2025-10-15 20:40:13 -0400 (Wed, 15 Oct 2025) EndedAt: 2025-10-15 20:42:48 -0400 (Wed, 15 Oct 2025) EllapsedTime: 154.3 seconds RetCode: 0 Status: OK CheckDir: ADAPT.Rcheck Warnings: 0