Package: ADAPT Version: 1.2.0 Command: /Library/Frameworks/R.framework/Resources/bin/R CMD INSTALL ADAPT StartedAt: 2025-09-29 15:39:53 -0400 (Mon, 29 Sep 2025) EndedAt: 2025-09-29 15:40:42 -0400 (Mon, 29 Sep 2025) EllapsedTime: 48.9 seconds RetCode: 1 Status: ERROR