Package: ADAPT Version: 1.2.0 Command: /home/biocbuild/R/R/bin/R CMD check --install=check:ADAPT.install-out.txt --library=/home/biocbuild/R/R/site-library --no-vignettes --timings ADAPT_1.2.0.tar.gz StartedAt: 2025-09-30 06:35:13 -0000 (Tue, 30 Sep 2025) EndedAt: 2025-09-30 06:38:27 -0000 (Tue, 30 Sep 2025) EllapsedTime: 194.3 seconds RetCode: 1 Status: ERROR CheckDir: ADAPT.Rcheck Warnings: NA