Package: ADAPT Version: 1.2.0 Command: /home/biocbuild/R/R/bin/R CMD build --keep-empty-dirs --no-resave-data ADAPT StartedAt: 2025-09-29 22:28:59 -0000 (Mon, 29 Sep 2025) EndedAt: 2025-09-29 22:30:18 -0000 (Mon, 29 Sep 2025) EllapsedTime: 79.0 seconds RetCode: 0 Status: OK PackageFile: ADAPT_1.2.0.tar.gz PackageFileSize: 384.1 KiB