Package: ADAMgui Version: 1.24.0 Command: rm -rf ADAMgui.buildbin-libdir && mkdir ADAMgui.buildbin-libdir && E:\biocbuild\bbs-3.21-bioc\R\bin\R.exe CMD INSTALL --build --library=ADAMgui.buildbin-libdir ADAMgui_1.24.0.tar.gz StartedAt: 2025-08-15 08:43:01 -0400 (Fri, 15 Aug 2025) EndedAt: 2025-08-15 08:44:01 -0400 (Fri, 15 Aug 2025) EllapsedTime: 59.8 seconds RetCode: 0 Status: OK PackageFile: ADAMgui_1.24.0.zip PackageFileSize: 920.7 KiB