Package: ACME Version: 2.64.0 Command: rm -rf ACME.buildbin-libdir && mkdir ACME.buildbin-libdir && /Users/biocbuild/BBS/utils/build-universal.sh ACME_2.64.0.tar.gz /Library/Frameworks/R.framework/Resources/bin/R ACME.buildbin-libdir StartedAt: 2025-10-15 17:19:02 -0400 (Wed, 15 Oct 2025) EndedAt: 2025-10-15 17:19:15 -0400 (Wed, 15 Oct 2025) EllapsedTime: 12.7 seconds RetCode: 0 Status: OK PackageFile: ACME_2.64.0.tgz PackageFileSize: 10.16 MiB