Package: ACE Version: 1.26.0 Command: rm -rf ACE.buildbin-libdir && mkdir ACE.buildbin-libdir && /Users/biocbuild/BBS/utils/build-universal.sh ACE_1.26.0.tar.gz /Library/Frameworks/R.framework/Resources/bin/R ACE.buildbin-libdir StartedAt: 2025-10-14 12:48:09 -0400 (Tue, 14 Oct 2025) EndedAt: 2025-10-14 12:48:59 -0400 (Tue, 14 Oct 2025) EllapsedTime: 49.2 seconds RetCode: 0 Status: OK PackageFile: ACE_1.26.0.tgz PackageFileSize: 2.789 MiB