Package: ABSSeq Version: 1.62.0 Command: /home/biocbuild/R/R/bin/R CMD build --keep-empty-dirs --no-resave-data ABSSeq StartedAt: 2025-10-13 22:28:57 -0000 (Mon, 13 Oct 2025) EndedAt: 2025-10-13 22:30:56 -0000 (Mon, 13 Oct 2025) EllapsedTime: 119.1 seconds RetCode: 0 Status: OK PackageFile: ABSSeq_1.62.0.tar.gz PackageFileSize: 1.067 MiB