Welcome to mirrors.dotsrc.org

All our mirrors of open source software are available via http, https, ftp and an onion service. More information about our mirrors including statistics and contact information is available on our mirror info pages.

For information about dotsrc.org and our other services please go to our website.

Index of /bioconductor/checkResults/3.21/bioc-LATEST/

File Name  ↓ File Size  ↓ Date  ↓ 
--
-2024-10-24 15:04:42
-2024-10-24 15:04:38
-2024-10-24 15:04:37
-2024-10-24 15:04:38
-2024-10-24 15:04:43
-2024-10-24 15:04:41
-2024-10-24 15:04:42
-2024-10-24 15:04:43
-2024-10-24 15:04:42
-2024-10-24 15:04:42
-2024-10-24 15:04:41
-2024-10-24 15:04:41
-2024-10-24 15:04:43
-2024-10-24 15:04:41
-2024-10-24 15:04:38
-2024-10-24 15:04:38
-2024-10-24 15:04:38
-2024-10-24 15:04:43
-2024-10-24 15:04:38
-2024-10-24 15:04:42
-2025-10-02 15:42:11
-2025-10-02 15:41:50
-2025-10-02 15:41:39
-2025-10-02 15:41:50
-2025-10-02 15:42:02
-2025-10-02 15:42:12
-2025-10-02 15:41:30
-2025-10-02 15:41:30
-2025-10-02 15:42:14
-2025-10-02 15:37:24
-2025-10-02 15:42:09
-2025-10-02 15:41:51
-2025-10-02 15:42:15
-2025-10-02 15:42:03
-2025-10-02 15:42:22
-2025-10-02 15:42:06
-2025-10-02 15:42:22
-2025-10-02 15:42:22
-2025-10-02 15:41:47
-2025-10-02 15:42:05
-2025-10-02 15:41:33
-2025-10-02 15:41:55
-2025-10-02 15:41:53
-2025-10-02 15:42:05
-2025-10-02 15:41:38
-2025-10-02 15:42:25
-2025-10-02 15:41:34
-2025-10-02 15:42:15
-2025-10-02 15:42:07
-2025-10-02 15:42:25
-2025-10-02 15:41:30
-2025-10-02 15:41:50
-2025-10-02 15:41:27
-2025-10-02 15:41:46
-2025-10-02 15:42:24
-2025-10-02 15:42:17
-2025-10-02 15:41:55
-2025-10-02 15:41:35
-2025-10-02 15:42:03
-2025-10-02 15:41:39
-2025-10-02 15:42:20
-2025-10-02 15:41:52
-2025-10-02 15:42:23
-2025-10-02 15:36:59
-2025-10-02 15:42:02
-2025-10-02 15:41:33
-2025-10-02 15:41:26
-2025-10-02 15:42:04
-2025-10-02 15:41:32
-2025-10-02 15:41:45
-2025-10-02 15:41:58
-2025-10-02 15:41:34
-2025-10-02 15:42:21
-2025-10-02 15:41:43
-2025-10-02 15:41:34
-2025-10-02 15:41:29
-2025-10-02 15:41:48
-2025-10-02 15:42:10
-2025-10-02 15:42:19
-2025-10-02 15:42:08
-2025-10-02 15:41:40
-2025-10-02 15:41:44
-2025-10-02 15:41:51
-2025-10-02 15:42:03
-2025-10-02 15:42:09
-2025-10-02 15:42:04
-2025-10-02 15:42:07
-2025-10-02 15:41:29
-2025-10-02 15:42:03
-2025-10-02 15:41:38
-2025-10-02 15:42:10
-2025-10-02 15:41:43
-2025-10-02 15:42:03
-2025-10-02 15:42:24
-2025-10-02 15:42:00
-2025-10-02 15:42:11
-2025-10-02 15:42:14
-2025-10-02 15:41:35
-2025-10-02 15:41:34
-2025-10-02 15:41:41
-2025-10-02 15:42:11
-2025-10-02 15:42:11
-2025-10-02 15:42:12
-2025-10-02 15:41:44
-2025-10-02 15:41:50
-2025-10-02 15:42:13
-2025-10-02 15:41:33
-2025-10-02 15:41:36
-2025-10-02 15:42:13
-2025-10-02 15:42:07
-2025-10-02 15:42:23
-2025-10-02 15:42:04
-2025-10-02 15:41:48
-2025-10-02 15:42:25
-2025-10-02 15:41:37
-2025-10-02 15:41:55
-2025-10-02 15:42:25
-2025-10-02 15:42:03
-2025-10-02 15:41:50
-2025-10-02 15:42:26
-2025-10-02 15:41:27
-2025-10-02 15:41:29
-2025-10-02 15:41:37
-2025-10-02 15:41:55
-2025-10-02 15:42:23
-2025-10-02 15:41:47
-2025-10-02 15:42:01
-2025-10-02 15:41:33
-2025-10-02 15:42:10
-2025-10-02 15:42:10
-2025-10-02 15:42:23
-2025-10-02 15:41:56
-2025-10-02 15:42:25
-2025-10-02 15:42:17
-2025-10-02 15:41:34
-2025-10-02 15:41:58
-2025-10-02 15:42:25
-2025-10-02 15:41:46
-2025-10-02 15:41:36
-2025-10-02 15:41:39
-2025-10-02 15:41:30
-2025-10-02 15:42:02
-2025-10-02 15:42:19
-2025-10-02 15:41:57
-2025-10-02 15:42:09
-2025-10-02 15:41:34
-2025-10-02 15:42:25
-2025-10-02 15:41:37
-2025-10-02 15:41:52
-2025-10-02 15:41:50
-2025-10-02 15:41:57
-2025-10-02 15:41:28
-2025-10-02 15:42:12
-2025-10-02 15:42:26
-2025-10-02 15:42:09
-2025-10-02 15:42:22
-2025-10-02 15:42:25
-2025-10-02 15:42:07
-2025-10-02 15:42:20
-2025-10-02 15:41:30
-2025-10-02 15:42:26
-2025-10-02 15:41:27
-2025-10-02 15:42:24
-2025-10-02 15:41:47
-2025-10-02 15:42:05
-2025-10-02 15:42:08
-2025-10-02 15:42:05
-2025-10-02 15:42:23
-2025-10-02 15:41:38
-2025-10-02 15:42:22
-2025-10-02 15:42:12
-2025-10-02 15:42:21
-2025-10-02 15:42:04
-2025-10-02 15:41:56
-2025-10-02 15:41:41
-2025-10-02 15:42:15
-2025-10-02 15:42:20
-2025-10-02 15:41:46
-2025-10-02 15:41:44
-2025-10-02 15:42:19
-2025-10-02 15:41:33
-2025-10-02 15:41:43
-2025-10-02 15:42:03
-2025-10-02 15:41:50
-2025-10-02 15:41:40
-2025-10-02 15:41:57
-2025-10-02 15:42:25
-2025-10-02 15:41:33
-2025-10-02 15:42:26
-2025-10-02 15:41:51
-2025-10-02 15:41:57
-2025-10-02 15:42:07
-2025-10-02 15:41:43
-2025-10-02 15:41:28
-2025-10-02 15:41:43
-2025-10-02 15:41:32
-2025-10-02 15:41:55
-2025-10-02 15:42:20
-2025-10-02 15:41:39
-2025-10-02 15:41:43
-2025-10-02 15:42:09
-2025-10-02 15:41:54
-2025-10-02 15:41:58
-2025-10-02 15:41:30
-2025-10-02 15:42:03
-2025-10-02 15:41:35
-2025-10-02 15:41:55
-2025-10-02 15:42:02
-2025-10-02 15:42:01
-2025-10-02 15:42:24
-2025-10-02 15:42:05
-2025-10-02 15:42:26
-2025-10-02 15:42:14
-2025-10-02 15:42:21
-2025-10-02 15:42:11
-2025-10-02 15:42:04
-2025-10-02 15:41:51
-2025-10-02 15:41:35
-2025-10-02 15:42:03
-2025-10-02 15:41:49
-2025-10-02 15:42:07
-2025-10-02 15:42:02
-2025-10-02 15:41:41
-2025-10-02 15:41:42
-2025-10-02 15:41:36
-2025-10-02 15:41:35
-2025-10-02 15:42:23
-2025-10-02 15:41:51
-2025-10-02 15:41:45
-2025-10-02 15:42:20
-2025-10-02 15:42:06
-2025-10-02 15:41:45
-2025-10-02 15:41:29
-2025-10-02 15:42:03
-2025-10-02 15:41:45
-2025-10-02 15:41:31
-2025-10-02 15:41:59
-2025-10-02 15:42:24
-2025-10-02 15:41:40
-2025-10-02 15:41:42
-2025-10-02 15:42:11
-2025-10-02 15:41:45
-2025-10-02 15:41:29
-2025-10-02 15:42:22
-2025-10-02 15:41:42
-2025-10-02 15:41:27
-2025-10-02 15:41:50
-2025-10-02 15:42:19
-2025-10-02 15:41:38
-2025-10-02 15:42:00
-2025-10-02 15:42:21
-2025-10-02 15:42:20
-2025-10-02 15:41:26
-2025-10-02 15:41:34
-2025-10-02 15:41:29
-2025-10-02 15:42:15
-2025-10-02 15:41:46
-2025-10-02 15:41:30
-2025-10-02 15:41:41
-2025-10-02 15:42:22
-2025-10-02 15:41:44
-2025-10-02 15:42:01
-2025-10-02 15:41:32
-2025-10-02 15:42:25
-2025-10-02 15:41:54
-2025-10-02 15:42:10
-2025-10-02 15:41:37
-2025-10-02 15:42:24
-2025-10-02 15:41:26
-2025-10-02 15:41:26
-2025-10-02 15:42:12
-2025-10-02 15:41:41
-2025-10-02 15:41:38
-2025-10-02 15:41:37
-2025-10-02 15:42:13
-2025-10-02 15:41:32
-2025-10-02 15:41:57
-2025-10-02 15:42:03
-2025-10-02 15:42:21
-2025-10-02 15:42:21
-2025-10-02 15:41:27
-2025-10-02 15:41:56
-2025-10-02 15:41:54
-2025-10-02 15:42:14
-2025-10-02 15:42:13
-2025-10-02 15:41:55
-2025-10-02 15:41:38
-2025-10-02 15:41:29
-2025-10-02 15:41:49
-2025-10-02 15:41:54
-2025-10-02 15:41:37
-2025-10-02 15:41:40
-2025-10-02 15:41:42
-2025-10-02 15:41:51
-2025-10-02 15:41:56
-2025-10-02 15:41:39
-2025-10-02 15:42:22
-2025-10-02 15:42:15
-2025-10-02 15:41:53
-2025-10-02 15:41:28
-2025-10-02 15:42:25
-2025-10-02 15:41:34
-2025-10-02 15:41:28
-2025-10-02 15:41:45
-2025-10-02 15:41:27
-2025-10-02 15:42:09
-2025-10-02 15:41:56
-2025-10-02 15:42:06
-2025-10-02 15:42:17
-2025-10-02 15:41:32
-2025-10-02 15:41:35
-2025-10-02 15:41:32
-2025-10-02 15:41:43
-2025-10-02 15:42:12
-2025-10-02 15:41:26
-2025-10-02 15:41:52
-2025-10-02 15:41:39
-2025-10-02 15:41:37
-2025-10-02 15:41:43
-2025-10-02 15:42:22
-2025-10-02 15:41:28
-2025-10-02 15:41:39
-2025-10-02 15:41:31
-2025-10-02 15:41:35
-2025-10-02 15:42:26
-2025-10-02 15:42:05
-2025-10-02 15:41:46
-2025-10-02 15:41:39
-2025-10-02 15:41:37
-2025-10-02 15:41:43
-2025-10-02 15:42:24
-2025-10-02 15:42:02
-2025-10-02 15:41:55
-2025-10-02 15:41:48
-2025-10-02 15:41:51
-2025-10-02 15:41:40
-2025-10-02 15:42:26
-2025-10-02 15:42:06
-2025-10-02 15:42:22
-2025-10-02 15:41:31
-2025-10-02 15:41:27
-2025-10-02 15:42:01
-2025-10-02 15:41:50
-2025-10-02 15:42:07
-2025-10-02 15:41:46
-2025-10-02 15:42:13
-2025-10-02 15:42:24
-2025-10-02 15:42:12
-2025-10-02 15:42:25
-2025-10-02 15:42:20
-2025-10-02 15:42:05
-2025-10-02 15:42:12
-2025-10-02 15:42:23
-2025-10-02 15:42:23
-2025-10-02 15:42:20
-2025-10-02 15:41:51
-2025-10-02 15:42:06
-2025-10-02 15:41:49
-2025-10-02 15:42:14
-2025-10-02 15:41:37
-2025-10-02 15:42:17
-2025-10-02 15:42:03
-2025-10-02 15:41:44
-2025-10-02 15:42:26
-2025-10-02 15:42:07
-2025-10-02 15:42:05
-2025-10-02 15:42:19
-2025-10-02 15:41:44
-2025-10-02 15:42:13
-2025-10-02 15:41:57
-2025-10-02 15:41:48
-2025-10-02 15:41:57
-2025-10-02 15:41:47
-2025-10-02 15:41:45
-2025-10-02 15:41:58
-2025-10-02 15:41:46
-2025-10-02 15:41:29
-2025-10-02 15:42:15
-2025-10-02 15:41:59
-2025-10-02 15:41:36
-2025-10-02 15:41:58
-2025-10-02 15:42:20
-2025-10-02 15:41:27
-2025-10-02 15:41:57
-2025-10-02 15:42:02
-2025-10-02 15:41:30
-2025-10-02 15:42:00
-2025-10-02 15:41:30
-2025-10-02 15:41:39
-2025-10-02 15:42:11
-2025-10-02 15:42:06
-2025-10-02 15:42:22
-2025-10-02 15:41:30
-2025-10-02 15:42:03
-2025-10-02 15:42:05
-2025-10-02 15:41:38
-2025-10-02 15:41:46
-2025-10-02 15:41:53
-2025-10-02 15:41:39
-2025-10-02 15:42:13
-2025-10-02 15:42:19
-2025-10-02 15:42:23
-2025-10-02 15:42:18
-2025-10-02 15:41:55
-2025-10-02 15:42:08
-2025-10-02 15:41:28
-2025-10-02 15:42:22
-2025-10-02 15:42:15
-2025-10-02 15:41:42
-2025-10-02 15:41:33
-2025-10-02 15:41:49
-2025-10-02 15:42:11
-2025-10-02 15:41:40
-2025-10-02 15:41:29
-2025-10-02 15:41:26
-2025-10-02 15:42:04
-2025-10-02 15:41:35
-2025-10-02 15:42:17
-2025-10-02 15:42:00
-2025-10-02 15:42:25
-2025-10-02 15:41:54
-2025-10-02 15:41:40
-2025-10-02 15:41:28
-2025-10-02 15:41:40
-2025-10-02 15:42:05
-2025-10-02 15:42:26
-2025-10-02 15:41:52
-2025-10-02 15:41:31
-2025-10-02 15:41:43
-2025-10-02 15:42:22
-2025-10-02 15:41:31
-2025-10-02 15:41:33
-2025-10-02 15:42:07
-2025-10-02 15:41:59
-2025-10-02 15:42:00
-2025-10-02 15:41:28
-2025-10-02 15:41:59
-2025-10-02 15:42:04
-2025-10-02 15:41:48
-2025-10-02 15:41:53
-2025-10-02 15:42:25
-2025-10-02 15:41:56
-2025-10-02 15:41:30
-2025-10-02 15:42:02
-2025-10-02 15:42:19
-2025-10-02 15:41:38
-2025-10-02 15:41:34
-2025-10-02 15:42:01
-2025-10-02 15:41:36
-2025-10-02 15:42:24
-2025-10-02 15:42:03
-2025-10-02 15:41:28
-2025-10-02 15:41:42
-2025-10-02 15:41:39
-2025-10-02 15:41:49
-2025-10-02 15:41:37
-2025-10-02 15:41:49
-2025-10-02 15:42:24
-2025-10-02 15:41:43
-2025-10-02 15:42:18
-2025-10-02 15:42:19
-2025-10-02 15:41:57
-2025-10-02 15:41:43
-2025-10-02 15:41:53
-2025-10-02 15:41:26
-2025-10-02 15:42:11
-2025-10-02 15:42:09
-2025-10-02 15:41:44
-2025-10-02 15:41:54
-2025-10-02 15:42:14
-2025-10-02 15:41:41
-2025-10-02 15:42:20
-2025-10-02 15:41:34
-2025-10-02 15:41:27
-2025-10-02 15:42:16
-2025-10-02 15:41:38
-2025-10-02 15:41:49
-2025-10-02 15:42:16
-2025-10-02 15:41:39
-2025-10-02 15:41:51
-2025-10-02 15:42:13
-2025-10-02 15:41:57
-2025-10-02 15:42:21
-2025-10-02 15:42:23
-2025-10-02 15:42:08
-2025-10-02 15:41:27
-2025-10-02 15:42:25
-2025-10-02 15:41:51
-2025-10-02 15:41:50
-2025-10-02 15:42:18
-2025-10-02 15:41:29
-2025-10-02 15:42:02
-2025-10-02 15:42:13
-2025-10-02 15:42:03
-2025-10-02 15:42:20
-2025-10-02 15:42:12
-2025-10-02 15:41:30
-2025-10-02 15:42:02
-2025-10-02 15:42:23
-2025-10-02 15:42:04
-2025-10-02 15:42:18
-2025-10-02 15:41:45
-2025-10-02 15:41:53
-2025-10-02 15:41:36
-2025-10-02 15:41:47
-2025-10-02 15:41:44
-2025-10-02 15:42:11
-2025-10-02 15:42:06
-2025-10-02 15:42:24
-2025-10-02 15:41:44
-2025-10-02 15:41:45
-2025-10-02 15:42:02
-2025-10-02 15:41:58
-2025-10-02 15:41:28
-2025-10-02 15:41:27
-2025-10-02 15:41:35
-2025-10-02 15:42:14
-2025-10-02 15:42:15
-2025-10-02 15:42:22
-2025-10-02 15:42:07
-2025-10-02 15:41:31
-2025-10-02 15:42:18
-2025-10-02 15:41:31
-2025-10-02 15:41:51
-2025-10-02 15:41:39
-2025-10-02 15:41:46
-2025-10-02 15:41:53
-2025-10-02 15:42:19
-2025-10-02 15:41:57
-2025-10-02 15:42:19
-2025-10-02 15:42:00
-2025-10-02 15:41:35
-2025-10-02 15:41:33
-2025-10-02 15:41:53
-2025-10-02 15:41:40
-2025-10-02 15:42:23
-2025-10-02 15:41:57
-2025-10-02 15:42:19
-2025-10-02 15:41:58
-2025-10-02 15:41:53
-2025-10-02 15:41:38
-2025-10-02 15:41:38
-2025-10-02 15:42:07
-2025-10-02 15:41:30
-2025-10-02 15:42:23
-2025-10-02 15:41:49
-2025-10-02 15:42:09
-2025-10-02 15:42:13
-2025-10-02 15:42:15
-2025-10-02 15:41:59
-2025-10-02 15:41:50
-2025-10-02 15:41:40
-2025-10-02 15:41:56
-2025-10-02 15:42:24
-2025-10-02 15:41:32
-2025-10-02 15:41:29
-2025-10-02 15:42:04
-2025-10-02 15:42:00
-2025-10-02 15:42:25
-2025-10-02 15:41:54
-2025-10-02 15:42:08
-2025-10-02 15:41:39
-2025-10-02 15:41:27
-2025-10-02 15:41:44
-2025-10-02 15:41:48
-2025-10-02 15:41:33
-2025-10-02 15:41:49
-2025-10-02 15:41:48
-2025-10-02 15:42:25
-2025-10-02 15:41:50
-2025-10-02 15:42:20
-2025-10-02 15:42:03
-2025-10-02 15:41:26
-2025-10-02 15:41:39
-2025-10-02 15:42:17
-2025-10-02 15:41:53
-2025-10-02 15:42:22
-2025-10-02 15:41:55
-2025-10-02 15:41:31
-2025-10-02 15:42:05
-2025-10-02 15:42:06
-2025-10-02 15:41:58
-2025-10-02 15:41:52
-2025-10-02 15:42:19
-2025-10-02 15:42:26
-2025-10-02 15:41:58
-2025-10-02 15:41:35
-2025-10-02 15:41:42
-2025-10-02 15:42:05
-2025-10-02 15:42:18
-2025-10-02 15:42:04
-2025-10-02 15:41:26
-2025-10-02 15:41:38
-2025-10-02 15:41:50
-2025-10-02 15:41:53
-2025-10-02 15:42:15
-2025-10-02 15:41:52
-2025-10-02 15:41:46
-2025-10-02 15:41:36
-2025-10-02 15:41:49
-2025-10-02 15:42:22
-2025-10-02 15:42:23
-2025-10-02 15:41:45
-2025-10-02 15:41:38
-2025-10-02 15:42:22
-2025-10-02 15:42:03
-2025-10-02 15:41:34
-2025-10-02 15:42:22
-2025-10-02 15:41:32
-2025-10-02 15:41:48
-2025-10-02 15:41:28
-2025-10-02 15:42:07
-2025-10-02 15:41:57
-2025-10-02 15:42:13
-2025-10-02 15:41:30
-2025-10-02 15:42:22
-2025-10-02 15:42:12
-2025-10-02 15:42:20
-2025-10-02 15:41:58
-2025-10-02 15:42:26
-2025-10-02 15:41:49
-2025-10-02 15:41:39
-2025-10-02 15:41:55
-2025-10-02 15:42:24
-2025-10-02 15:41:36
-2025-10-02 15:41:30
-2025-10-02 15:42:20
-2025-10-02 15:42:16
-2025-10-02 15:41:52
-2025-10-02 15:41:29
-2025-10-02 15:42:15
-2025-10-02 15:42:08
-2025-10-02 15:41:48
-2025-10-02 15:42:26
-2025-10-02 15:41:54
-2025-10-02 15:42:21
-2025-10-02 15:41:37
-2025-10-02 15:42:09
-2025-10-02 15:41:42
-2025-10-02 15:42:07
-2025-10-02 15:41:34
-2025-10-02 15:41:48
-2025-10-02 15:41:26
-2025-10-02 15:41:33
-2025-10-02 15:41:44
-2025-10-02 15:41:50
-2025-10-02 15:41:35
-2025-10-02 15:41:36
-2025-10-02 15:42:13
-2025-10-02 15:41:33
-2025-10-02 15:42:16
-2025-10-02 15:41:46
-2025-10-02 15:41:51
-2025-10-02 15:41:35
-2025-10-02 15:41:40
-2025-10-02 15:41:59
-2025-10-02 15:42:13
-2025-10-02 15:42:01
-2025-10-02 15:42:26
-2025-10-02 15:41:33
-2025-10-02 15:41:48
-2025-10-02 15:42:16
-2025-10-02 15:41:36
-2025-10-02 15:42:20
-2025-10-02 15:41:46
-2025-10-02 15:42:08
-2025-10-02 15:41:31
-2025-10-02 15:41:39
-2025-10-02 15:41:32
-2025-10-02 15:41:42
-2025-10-02 15:41:49
-2025-10-02 15:42:09
-2025-10-02 15:41:38
-2025-10-02 15:42:05
-2025-10-02 15:42:12
-2025-10-02 15:41:43
-2025-10-02 15:42:23
-2025-10-02 15:41:33
-2025-10-02 15:42:03
-2025-10-02 15:42:21
-2025-10-02 15:42:04
-2025-10-02 15:41:49
-2025-10-02 15:42:16
-2025-10-02 15:41:39
-2025-10-02 15:42:17
-2025-10-02 15:42:23
-2025-10-02 15:41:55
-2025-10-02 15:42:25
-2025-10-02 15:41:54
-2025-10-02 15:41:27
-2025-10-02 15:42:26
-2025-10-02 15:41:58
-2025-10-02 15:41:57
-2025-10-02 15:41:42
-2025-10-02 15:41:46
-2025-10-02 15:42:04
-2025-10-02 15:41:36
-2025-10-02 15:42:00
-2025-10-02 15:41:46
-2025-10-02 15:41:42
-2025-10-02 15:41:33
-2025-10-02 15:41:42
-2025-10-02 15:41:42
-2025-10-02 15:42:17
-2025-10-02 15:41:27
-2025-10-02 15:42:20
-2025-10-02 15:41:31
-2025-10-02 15:41:49
-2025-10-02 15:41:28
-2025-10-02 15:41:53
-2025-10-02 15:42:16
-2025-10-02 15:42:10
-2025-10-02 15:41:35
-2025-10-02 15:41:43
-2025-10-02 15:41:44
-2025-10-02 15:42:08
-2025-10-02 15:41:56
-2025-10-02 15:41:51
-2025-10-02 15:41:43
-2025-10-02 15:41:56
-2025-10-02 15:41:47
-2025-10-02 15:41:51
-2025-10-02 15:42:00
-2025-10-02 15:41:53
-2025-10-02 15:42:13
-2025-10-02 15:41:58
-2025-10-02 15:42:06
-2025-10-02 15:42:01
-2025-10-02 15:41:50
-2025-10-02 15:41:34
-2025-10-02 15:42:16
-2025-10-02 15:42:23
-2025-10-02 15:41:31
-2025-10-02 15:41:28
-2025-10-02 15:42:06
-2025-10-02 15:42:19
-2025-10-02 15:42:01
-2025-10-02 15:42:09
-2025-10-02 15:41:44
-2025-10-02 15:41:49
-2025-10-02 15:42:13
-2025-10-02 15:42:05
-2025-10-02 15:41:44
-2025-10-02 15:41:29
-2025-10-02 15:42:16
-2025-10-02 15:42:04
-2025-10-02 15:42:16
-2025-10-02 15:41:52
-2025-10-02 15:41:49
-2025-10-02 15:41:56
-2025-10-02 15:42:11
-2025-10-02 15:41:46
-2025-10-02 15:41:54
-2025-10-02 15:41:27
-2025-10-02 15:42:21
-2025-10-02 15:41:31
-2025-10-02 15:41:50
-2025-10-02 15:42:20
-2025-10-02 15:42:19
-2025-10-02 15:41:29
-2025-10-02 15:41:32
-2025-10-02 15:42:03
-2025-10-02 15:41:38
-2025-10-02 15:41:58
-2025-10-02 15:41:42
-2025-10-02 15:41:33
-2025-10-02 15:41:52
-2025-10-02 15:42:18
-2025-10-02 15:41:42
-2025-10-02 15:41:36
-2025-10-02 15:42:22
-2025-10-02 15:41:59
-2025-10-02 15:41:28
-2025-10-02 15:42:24
-2025-10-02 15:42:25
-2025-10-02 15:42:24
-2025-10-02 15:42:00
-2025-10-02 15:41:43
-2025-10-02 15:42:14
-2025-10-02 15:41:54
-2025-10-02 15:42:18
-2025-10-02 15:41:46
-2025-10-02 15:42:25
-2025-10-02 15:41:59
-2025-10-02 15:41:52
-2025-10-02 15:42:11
-2025-10-02 15:42:16
-2025-10-02 15:41:43
-2025-10-02 15:41:58
-2025-10-02 15:42:18
-2025-10-02 15:42:19
-2025-10-02 15:41:33
-2025-10-02 15:42:22
-2025-10-02 15:41:45
-2025-10-02 15:42:25
-2025-10-02 15:42:18
-2025-10-02 15:42:05
-2025-10-02 15:42:00
-2025-10-02 15:42:18
-2025-10-02 15:41:30
-2025-10-02 15:41:45
-2025-10-02 15:41:46
-2025-10-02 15:41:46
-2025-10-02 15:41:28
-2025-10-02 15:42:14
-2025-10-02 15:42:26
-2025-10-02 15:41:51
-2025-10-02 15:41:41
-2025-10-02 15:41:45
-2025-10-02 15:41:27
-2025-10-02 15:42:21
-2025-10-02 15:42:13
-2025-10-02 15:42:17
-2025-10-02 15:42:08
-2025-10-02 15:41:38
-2025-10-02 15:41:49
-2025-10-02 15:41:49
-2025-10-02 15:42:02
-2025-10-02 15:42:01
-2025-10-02 15:41:33
-2025-10-02 15:42:09
-2025-10-02 15:41:36
-2025-10-02 15:42:04
-2025-10-02 15:41:34
-2025-10-02 15:41:32
-2025-10-02 15:41:32
-2025-10-02 15:42:12
-2025-10-02 15:42:01
-2025-10-02 15:41:30
-2025-10-02 15:41:41
-2025-10-02 15:41:34
-2025-10-02 15:41:41
-2025-10-02 15:42:21
-2025-10-02 15:41:40
-2025-10-02 15:41:51
-2025-10-02 15:42:22
-2025-10-02 15:41:53
-2025-10-02 15:41:44
-2025-10-02 15:42:25
-2025-10-02 15:41:36
-2025-10-02 15:41:38
-2025-10-02 15:41:47
-2025-10-02 15:41:39
-2025-10-02 15:42:22
-2025-10-02 15:41:55
-2025-10-02 15:42:11
-2025-10-02 15:41:36
-2025-10-02 15:41:58
-2025-10-02 15:41:44
-2025-10-02 15:41:50
-2025-10-02 15:42:24
-2025-10-02 15:42:12
-2025-10-02 15:42:24
-2025-10-02 15:41:56
-2025-10-02 15:41:55
-2025-10-02 15:42:21
-2025-10-02 15:41:48
-2025-10-02 15:41:48
-2025-10-02 15:41:31
-2025-10-02 15:42:02
-2025-10-02 15:41:57
-2025-10-02 15:41:47
-2025-10-02 15:42:25
-2025-10-02 15:41:54
-2025-10-02 15:41:35
-2025-10-02 15:42:10
-2025-10-02 15:42:18
-2025-10-02 15:42:09
-2025-10-02 15:42:24
-2025-10-02 15:42:17
-2025-10-02 15:41:52
-2025-10-02 15:41:48
-2025-10-02 15:41:35
-2025-10-02 15:42:25
-2025-10-02 15:41:31
-2025-10-02 15:41:38
-2025-10-02 15:41:27
-2025-10-02 15:42:24
-2025-10-02 15:42:09
-2025-10-02 15:42:21
-2025-10-02 15:42:17
-2025-10-02 15:42:07
-2025-10-02 15:41:30
-2025-10-02 15:41:29
-2025-10-02 15:42:15
-2025-10-02 15:41:28
-2025-10-02 15:41:35
-2025-10-02 15:41:54
-2025-10-02 15:42:10
-2025-10-02 15:41:28
-2025-10-02 15:41:28
-2025-10-02 15:42:16
-2025-10-02 15:41:56
-2025-10-02 15:41:54
-2025-10-02 15:41:32
-2025-10-02 15:42:06
-2025-10-02 15:42:22
-2025-10-02 15:42:23
-2025-10-02 15:42:22
-2025-10-02 15:42:21
-2025-10-02 15:42:00
-2025-10-02 15:42:20
-2025-10-02 15:42:22
-2025-10-02 15:41:34
-2025-10-02 15:42:21
-2025-10-02 15:42:08
-2025-10-02 15:41:31
-2025-10-02 15:41:47
-2025-10-02 15:42:25
-2025-10-02 15:41:26
-2025-10-02 15:41:37
-2025-10-02 15:42:14
-2025-10-02 15:41:53
-2025-10-02 15:41:28
-2025-10-02 15:42:05
-2025-10-02 15:42:23
-2025-10-02 15:42:14
-2025-10-02 15:41:39
-2025-10-02 15:41:49
-2025-10-02 15:41:28
-2025-10-02 15:42:04
-2025-10-02 15:41:32
-2025-10-02 15:41:58
-2025-10-02 15:42:26
-2025-10-02 15:41:50
-2025-10-02 15:42:17
-2025-10-02 15:41:57
-2025-10-02 15:41:47
-2025-10-02 15:41:50
-2025-10-02 15:42:09
-2025-10-02 15:41:30
-2025-10-02 15:41:52
-2025-10-02 15:41:33
-2025-10-02 15:41:32
-2025-10-02 15:41:59
-2025-10-02 15:41:36
-2025-10-02 15:41:32
-2025-10-02 15:42:15
-2025-10-02 15:42:25
-2025-10-02 15:42:16
-2025-10-02 15:41:57
-2025-10-02 15:41:28
-2025-10-02 15:41:56
-2025-10-02 15:41:45
-2025-10-02 15:41:30
-2025-10-02 15:41:46
-2025-10-02 15:42:18
-2025-10-02 15:42:20
-2025-10-02 15:42:05
-2025-10-02 15:41:28
-2025-10-02 15:41:39
-2025-10-02 15:41:47
-2025-10-02 15:42:13
-2025-10-02 15:42:11
-2025-10-02 15:42:15
-2025-10-02 15:41:28
-2025-10-02 15:41:54
-2025-10-02 15:41:55
-2025-10-02 15:42:07
-2025-10-02 15:41:35
-2025-10-02 15:41:36
-2025-10-02 15:41:48
-2025-10-02 15:41:55
-2025-10-02 15:42:23
-2025-10-02 15:41:52
-2025-10-02 15:42:09
-2025-10-02 15:42:04
-2025-10-02 15:42:18
-2025-10-02 15:42:13
-2025-10-02 15:42:15
-2025-10-02 15:41:28
-2025-10-02 15:42:24
-2025-10-02 15:42:04
-2025-10-02 15:41:29
-2025-10-02 15:42:26
-2025-10-02 15:42:13
-2025-10-02 15:41:29
-2025-10-02 15:41:45
-2025-10-02 15:41:31
-2025-10-02 15:42:24
-2025-10-02 15:41:28
-2025-10-02 15:41:32
-2025-10-02 15:42:05
-2025-10-02 15:42:00
-2025-10-02 15:41:28
-2025-10-02 15:42:15
-2025-10-02 15:41:52
-2025-10-02 15:41:56
-2025-10-02 15:41:38
-2025-10-02 15:41:46
-2025-10-02 15:41:45
-2025-10-02 15:42:06
-2025-10-02 15:41:54
-2025-10-02 15:41:32
-2025-10-02 15:42:02
-2025-10-02 15:41:28
-2025-10-02 15:41:32
-2025-10-02 15:41:29
-2025-10-02 15:41:51
-2025-10-02 15:42:06
-2025-10-02 15:41:42
-2025-10-02 15:42:24
-2025-10-02 15:41:51
-2025-10-02 15:42:20
-2025-10-02 15:41:35
-2025-10-02 15:41:39
-2025-10-02 15:42:11
-2025-10-02 15:41:33
-2025-10-02 15:41:46
-2025-10-02 15:41:32
-2025-10-02 15:41:39
-2025-10-02 15:42:18
-2025-10-02 15:41:33
-2025-10-02 15:41:37
-2025-10-02 15:42:23
-2025-10-02 15:41:46
-2025-10-02 15:42:11
-2025-10-02 15:41:53
-2025-10-02 15:42:05
-2025-10-02 15:41:46
-2025-10-02 15:41:42
-2025-10-02 15:42:24
-2025-10-02 15:41:32
-2025-10-02 15:41:44
-2025-10-02 15:41:26
-2025-10-02 15:41:50
-2025-10-02 15:42:00
-2025-10-02 15:41:52
-2025-10-02 15:42:00
-2025-10-02 15:42:22
-2025-10-02 15:42:08
-2025-10-02 15:41:36
-2025-10-02 15:41:49
-2025-10-02 15:41:55
-2025-10-02 15:42:19
-2025-10-02 15:42:14
-2025-10-02 15:41:41
-2025-10-02 15:42:18
-2025-10-02 15:41:55
-2025-10-02 15:41:41
-2025-10-02 15:42:11
-2025-10-02 15:41:38
-2025-10-02 15:41:53
-2025-10-02 15:42:14
-2025-10-02 15:42:08
-2025-10-02 15:41:31
-2025-10-02 15:41:28
-2025-10-02 15:41:26
-2025-10-02 15:41:54
-2025-10-02 15:42:21
-2025-10-02 15:41:47
-2025-10-02 15:42:12
-2025-10-02 15:41:33
-2025-10-02 15:41:51
-2025-10-02 15:41:41
-2025-10-02 15:42:11
-2025-10-02 15:41:54
-2025-10-02 15:41:31
-2025-10-02 15:41:28
-2025-10-02 15:41:55
-2025-10-02 15:41:37
-2025-10-02 15:41:32
-2025-10-02 15:42:23
-2025-10-02 15:41:35
-2025-10-02 15:41:48
-2025-10-02 15:41:42
-2025-10-02 15:42:02
-2025-10-02 15:41:44
-2025-10-02 15:42:06
-2025-10-02 15:41:45
-2025-10-02 15:41:55
-2025-10-02 15:41:45
-2025-10-02 15:42:21
-2025-10-02 15:42:07
-2025-10-02 15:41:26
-2025-10-02 15:41:52
-2025-10-02 15:41:38
-2025-10-02 15:41:43
-2025-10-02 15:41:44
-2025-10-02 15:41:30
-2025-10-02 15:42:05
-2025-10-02 15:42:00
-2025-10-02 15:42:06
-2025-10-02 15:41:57
-2025-10-02 15:41:38
-2025-10-02 15:41:44
-2025-10-02 15:42:24
-2025-10-02 15:42:03
-2025-10-02 15:41:41
-2025-10-02 15:42:12
-2025-10-02 15:42:02
-2025-10-02 15:42:06
-2025-10-02 15:41:48
-2025-10-02 15:41:52
-2025-10-02 15:42:22
-2025-10-02 15:42:05
-2025-10-02 15:42:18
-2025-10-02 15:42:07
-2025-10-02 15:41:50
-2025-10-02 15:42:26
-2025-10-02 15:42:24
-2025-10-02 15:41:43
-2025-10-02 15:42:07
-2025-10-02 15:41:57
-2025-10-02 15:42:21
-2025-10-02 15:42:19
-2025-10-02 15:41:41
-2025-10-02 15:41:58
-2025-10-02 15:41:37
-2025-10-02 15:42:22
-2025-10-02 15:42:26
-2025-10-02 15:42:24
-2025-10-02 15:41:37
-2025-10-02 15:42:16
-2025-10-02 15:41:32
-2025-10-02 15:41:47
-2025-10-02 15:41:38
-2025-10-02 15:41:50
-2025-10-02 15:41:39
-2025-10-02 15:42:22
-2025-10-02 15:42:22
-2025-10-02 15:41:40
-2025-10-02 15:41:53
-2025-10-02 15:42:18
-2025-10-02 15:41:40
-2025-10-02 15:41:27
-2025-10-02 15:42:20
-2025-10-02 15:42:23
-2025-10-02 15:41:36
-2025-10-02 15:42:07
-2025-10-02 15:42:00
-2025-10-02 15:42:16
-2025-10-02 15:42:18
-2025-10-02 15:42:04
-2025-10-02 15:41:42
-2025-10-02 15:42:12
-2025-10-02 15:41:45
-2025-10-02 15:42:15
-2025-10-02 15:41:43
-2025-10-02 15:41:56
-2025-10-02 15:42:13
-2025-10-02 15:41:30
-2025-10-02 15:42:25
-2025-10-02 15:41:26
-2025-10-02 15:41:43
-2025-10-02 15:41:51
-2025-10-02 15:41:45
-2025-10-02 15:42:12
-2025-10-02 15:41:36
-2025-10-02 15:42:24
-2025-10-02 15:42:21
-2025-10-02 15:42:19
-2025-10-02 15:41:30
-2025-10-02 15:42:24
-2025-10-02 15:41:47
-2025-10-02 15:41:31
-2025-10-02 15:41:28
-2025-10-02 15:41:55
-2025-10-02 15:41:35
-2025-10-02 15:42:23
-2025-10-02 15:41:35
-2025-10-02 15:42:25
-2025-10-02 15:41:40
-2025-10-02 15:42:26
-2025-10-02 15:42:09
-2025-10-02 15:41:48
-2025-10-02 15:42:06
-2025-10-02 15:42:04
-2025-10-02 15:42:19
-2025-10-02 15:42:25
-2025-10-02 15:41:36
-2025-10-02 15:42:26
-2025-10-02 15:42:14
-2025-10-02 15:41:31
-2025-10-02 15:41:29
-2025-10-02 15:41:50
-2025-10-02 15:42:12
-2025-10-02 15:41:47
-2025-10-02 15:42:25
-2025-10-02 15:41:29
-2025-10-02 15:41:38
-2025-10-02 15:41:38
-2025-10-02 15:42:00
-2025-10-02 15:41:29
-2025-10-02 15:42:15
-2025-10-02 15:41:37
-2025-10-02 15:42:23
-2025-10-02 15:42:17
-2025-10-02 15:42:02
-2025-10-02 15:42:02
-2025-10-02 15:42:02
-2025-10-02 15:41:52
-2025-10-02 15:41:53
-2025-10-02 15:42:25
-2025-10-02 15:41:30
-2025-10-02 15:42:05
-2025-10-02 15:41:38
-2025-10-02 15:41:29
-2025-10-02 15:42:15
-2025-10-02 15:41:57
-2025-10-02 15:41:37
-2025-10-02 15:42:04
-2025-10-02 15:42:07
-2025-10-02 15:41:34
-2025-10-02 15:42:16
-2025-10-02 15:41:35
-2025-10-02 15:42:01
-2025-10-02 15:41:28
-2025-10-02 15:41:46
-2025-10-02 15:42:17
-2025-10-02 15:42:22
-2025-10-02 15:41:44
-2025-10-02 15:41:36
-2025-10-02 15:41:52
-2025-10-02 15:41:59
-2025-10-02 15:41:53
-2025-10-02 15:42:16
-2025-10-02 15:42:07
-2025-10-02 15:42:06
-2025-10-02 15:42:10
-2025-10-02 15:41:52
-2025-10-02 15:42:25
-2025-10-02 15:41:48
-2025-10-02 15:42:02
-2025-10-02 15:41:42
-2025-10-02 15:42:22
-2025-10-02 15:41:51
-2025-10-02 15:42:23
-2025-10-02 15:41:56
-2025-10-02 15:42:01
-2025-10-02 15:41:41
-2025-10-02 15:42:20
-2025-10-02 15:42:14
-2025-10-02 15:42:06
-2025-10-02 15:41:45
-2025-10-02 15:41:34
-2025-10-02 15:41:35
-2025-10-02 15:41:40
-2025-10-02 15:41:48
-2025-10-02 15:42:20
-2025-10-02 15:42:19
-2025-10-02 15:41:29
-2025-10-02 15:41:31
-2025-10-02 15:41:34
-2025-10-02 15:41:28
-2025-10-02 15:41:42
-2025-10-02 15:41:55
-2025-10-02 15:41:47
-2025-10-02 15:41:50
-2025-10-02 15:41:40
-2025-10-02 15:41:26
-2025-10-02 15:42:23
-2025-10-02 15:41:50
-2025-10-02 15:41:52
-2025-10-02 15:41:56
-2025-10-02 15:42:25
-2025-10-02 15:41:39
-2025-10-02 15:41:29
-2025-10-02 15:42:22
-2025-10-02 15:41:52
-2025-10-02 15:41:58
-2025-10-02 15:41:45
-2025-10-02 15:41:33
-2025-10-02 15:42:22
-2025-10-02 15:41:52
-2025-10-02 15:41:40
-2025-10-02 15:41:41
-2025-10-02 15:42:11
-2025-10-02 15:41:32
-2025-10-02 15:41:51
-2025-10-02 15:41:56
-2025-10-02 15:41:53
-2025-10-02 15:41:42
-2025-10-02 15:42:17
-2025-10-02 15:41:32
-2025-10-02 15:41:27
-2025-10-02 15:41:47
-2025-10-02 15:42:22
-2025-10-02 15:42:08
-2025-10-02 15:41:36
-2025-10-02 15:42:07
-2025-10-02 15:42:17
-2025-10-02 15:42:26
-2025-10-02 15:41:55
-2025-10-02 15:41:33
-2025-10-02 15:42:25
-2025-10-02 15:42:20
-2025-10-02 15:41:40
-2025-10-02 15:41:55
-2025-10-02 15:42:22
-2025-10-02 15:41:45
-2025-10-02 15:41:29
-2025-10-02 15:41:34
-2025-10-02 15:41:49
-2025-10-02 15:42:03
-2025-10-02 15:42:00
-2025-10-02 15:41:55
-2025-10-02 15:41:26
-2025-10-02 15:41:47
-2025-10-02 15:41:38
-2025-10-02 15:42:22
-2025-10-02 15:42:09
-2025-10-02 15:41:41
-2025-10-02 15:41:37
-2025-10-02 15:42:22
-2025-10-02 15:41:57
-2025-10-02 15:41:45
-2025-10-02 15:41:35
-2025-10-02 15:41:40
-2025-10-02 15:41:51
-2025-10-02 15:42:19
-2025-10-02 15:41:50
-2025-10-02 15:41:44
-2025-10-02 15:42:11
-2025-10-02 15:42:23
-2025-10-02 15:41:51
-2025-10-02 15:41:46
-2025-10-02 15:42:16
-2025-10-02 15:42:16
-2025-10-02 15:42:12
-2025-10-02 15:42:15
-2025-10-02 15:41:30
-2025-10-02 15:41:46
-2025-10-02 15:42:09
-2025-10-02 15:41:44
-2025-10-02 15:41:37
-2025-10-02 15:41:33
-2025-10-02 15:42:09
-2025-10-02 15:42:16
-2025-10-02 15:41:39
-2025-10-02 15:42:20
-2025-10-02 15:41:49
-2025-10-02 15:41:43
-2025-10-02 15:41:34
-2025-10-02 15:41:54
-2025-10-02 15:42:11
-2025-10-02 15:41:40
-2025-10-02 15:41:29
-2025-10-02 15:41:47
-2025-10-02 15:42:03
-2025-10-02 15:41:29
-2025-10-02 15:42:24
-2025-10-02 15:42:09
-2025-10-02 15:41:59
-2025-10-02 15:41:52
-2025-10-02 15:41:30
-2025-10-02 15:42:14
-2025-10-02 15:41:43
-2025-10-02 15:41:50
-2025-10-02 15:42:04
-2025-10-02 15:41:39
-2025-10-02 15:41:38
-2025-10-02 15:42:19
-2025-10-02 15:41:58
-2025-10-02 15:41:36
-2025-10-02 15:42:02
-2025-10-02 15:41:27
-2025-10-02 15:41:51
-2025-10-02 15:41:57
-2025-10-02 15:41:40
-2025-10-02 15:41:33
-2025-10-02 15:41:48
-2025-10-02 15:41:31
-2025-10-02 15:41:51
-2025-10-02 15:41:33
-2025-10-02 15:41:50
-2025-10-02 15:42:19
-2025-10-02 15:42:04
-2025-10-02 15:42:22
-2025-10-02 15:41:28
-2025-10-02 15:41:32
-2025-10-02 15:41:40
-2025-10-02 15:41:48
-2025-10-02 15:42:23
-2025-10-02 15:41:26
-2025-10-02 15:41:59
-2025-10-02 15:42:12
-2025-10-02 15:42:12
-2025-10-02 15:41:39
-2025-10-02 15:41:52
-2025-10-02 15:42:25
-2025-10-02 15:41:44
-2025-10-02 15:42:12
-2025-10-02 15:42:01
-2025-10-02 15:42:05
-2025-10-02 15:41:32
-2025-10-02 15:42:24
-2025-10-02 15:42:17
-2025-10-02 15:42:03
-2025-10-02 15:41:57
-2025-10-02 15:42:16
-2025-10-02 15:41:29
-2025-10-02 15:42:16
-2025-10-02 15:42:06
-2025-10-02 15:41:49
-2025-10-02 15:41:49
-2025-10-02 15:42:18
-2025-10-02 15:41:44
-2025-10-02 15:41:36
-2025-10-02 15:42:03
-2025-10-02 15:42:13
-2025-10-02 15:42:12
-2025-10-02 15:42:21
-2025-10-02 15:42:03
-2025-10-02 15:41:31
-2025-10-02 15:42:12
-2025-10-02 15:41:29
-2025-10-02 15:42:03
-2025-10-02 15:41:53
-2025-10-02 15:42:16
-2025-10-02 15:41:31
-2025-10-02 15:42:06
-2025-10-02 15:42:04
-2025-10-02 15:41:33
-2025-10-02 15:42:24
-2025-10-02 15:42:23
-2025-10-02 15:42:23
-2025-10-02 15:42:26
-2025-10-02 15:42:04
-2025-10-02 15:41:39
-2025-10-02 15:42:08
-2025-10-02 15:41:44
-2025-10-02 15:41:31
-2025-10-02 15:41:43
-2025-10-02 15:42:18
-2025-10-02 15:42:13
-2025-10-02 15:42:01
-2025-10-02 15:42:24
-2025-10-02 15:42:08
-2025-10-02 15:41:36
-2025-10-02 15:42:16
-2025-10-02 15:41:39
-2025-10-02 15:42:02
-2025-10-02 15:41:39
-2025-10-02 15:41:38
-2025-10-02 15:42:00
-2025-10-02 15:41:34
-2025-10-02 15:41:29
-2025-10-02 15:41:58
-2025-10-02 15:41:30
-2025-10-02 15:42:08
-2025-10-02 15:42:23
-2025-10-02 15:42:15
-2025-10-02 15:41:44
-2025-10-02 15:41:32
-2025-10-02 15:42:12
-2025-10-02 15:41:47
-2025-10-02 15:42:01
-2025-10-02 15:41:45
-2025-10-02 15:42:24
-2025-10-02 15:41:52
-2025-10-02 15:42:02
-2025-10-02 15:41:56
-2025-10-02 15:42:00
-2025-10-02 15:42:12
-2025-10-02 15:41:37
-2025-10-02 15:41:28
-2025-10-02 15:41:44
-2025-10-02 15:42:04
-2025-10-02 15:41:35
-2025-10-02 15:42:06
-2025-10-02 15:41:27
-2025-10-02 15:41:47
-2025-10-02 15:41:51
-2025-10-02 15:42:08
-2025-10-02 15:41:45
-2025-10-02 15:41:27
-2025-10-02 15:41:31
-2025-10-02 15:41:55
-2025-10-02 15:41:59
-2025-10-02 15:42:15
-2025-10-02 15:42:02
-2025-10-02 15:41:47
-2025-10-02 15:41:37
-2025-10-02 15:42:20
-2025-10-02 15:42:18
-2025-10-02 15:41:38
-2025-10-02 15:42:16
-2025-10-02 15:41:26
-2025-10-02 15:41:37
-2025-10-02 15:41:27
-2025-10-02 15:41:37
-2025-10-02 15:41:50
-2025-10-02 15:41:36
-2025-10-02 15:42:14
-2025-10-02 15:41:29
-2025-10-02 15:41:30
-2025-10-02 15:41:34
-2025-10-02 15:42:21
-2025-10-02 15:42:23
-2025-10-02 15:41:30
-2025-10-02 15:42:07
-2025-10-02 15:42:13
-2025-10-02 15:42:24
-2025-10-02 15:41:37
-2025-10-02 15:41:52
-2025-10-02 15:41:38
-2025-10-02 15:41:48
-2025-10-02 15:41:36
-2025-10-02 15:41:43
-2025-10-02 15:41:41
-2025-10-02 15:41:59
-2025-10-02 15:41:49
-2025-10-02 15:42:01
-2025-10-02 15:42:03
-2025-10-02 15:42:01
-2025-10-02 15:42:18
-2025-10-02 15:41:59
-2025-10-02 15:42:24
-2025-10-02 15:42:21
-2025-10-02 15:42:02
-2025-10-02 15:41:35
-2025-10-02 15:41:42
-2025-10-02 15:41:45
-2025-10-02 15:42:04
-2025-10-02 15:41:33
-2025-10-02 15:41:38
-2025-10-02 15:42:15
-2025-10-02 15:41:42
-2025-10-02 15:42:04
-2025-10-02 15:41:53
-2025-10-02 15:41:41
-2025-10-02 15:41:27
-2025-10-02 15:41:54
-2025-10-02 15:42:25
-2025-10-02 15:41:26
-2025-10-02 15:41:28
-2025-10-02 15:42:08
-2025-10-02 15:42:07
-2025-10-02 15:41:30
-2025-10-02 15:42:04
-2025-10-02 15:41:28
-2025-10-02 15:42:01
-2025-10-02 15:41:30
-2025-10-02 15:42:05
-2025-10-02 15:41:43
-2025-10-02 15:41:32
-2025-10-02 15:41:50
-2025-10-02 15:42:19
-2025-10-02 15:41:56
-2025-10-02 15:41:53
-2025-10-02 15:41:34
-2025-10-02 15:42:09
-2025-10-02 15:42:20
-2025-10-02 15:41:27
-2025-10-02 15:42:07
-2025-10-02 15:42:09
-2025-10-02 15:41:54
-2025-10-02 15:41:30
-2025-10-02 15:42:07
-2025-10-02 15:42:14
-2025-10-02 15:41:36
-2025-10-02 15:41:59
-2025-10-02 15:41:43
-2025-10-02 15:41:42
-2025-10-02 15:41:33
-2025-10-02 15:42:11
-2025-10-02 15:42:07
-2025-10-02 15:41:40
-2025-10-02 15:42:13
-2025-10-02 15:41:43
-2025-10-02 15:42:26
-2025-10-02 15:41:30
-2025-10-02 15:41:35
-2025-10-02 15:41:59
-2025-10-02 15:42:12
-2025-10-02 15:41:37
-2025-10-02 15:42:18
-2025-10-02 15:42:09
-2025-10-02 15:41:59
-2025-10-02 15:42:09
-2025-10-02 15:42:03
-2025-10-02 15:42:21
-2025-10-02 15:41:53
-2025-10-02 15:41:50
-2025-10-02 15:41:34
-2025-10-02 15:41:40
-2025-10-02 15:41:31
-2025-10-02 15:41:46
-2025-10-02 15:42:07
-2025-10-02 15:42:14
-2025-10-02 15:41:29
-2025-10-02 15:41:56
-2025-10-02 15:41:59
-2025-10-02 15:42:16
-2025-10-02 15:42:00
-2025-10-02 15:42:21
-2025-10-02 15:41:56
-2025-10-02 15:41:54
-2025-10-02 15:41:27
-2025-10-02 15:41:34
-2025-10-02 15:41:37
-2025-10-02 15:41:40
-2025-10-02 15:42:19
-2025-10-02 15:41:26
-2025-10-02 15:41:26
-2025-10-02 15:42:24
-2025-10-02 15:42:06
-2025-10-02 15:41:49
-2025-10-02 15:41:29
-2025-10-02 15:41:41
-2025-10-02 15:41:45
-2025-10-02 15:41:52
-2025-10-02 15:41:47
-2025-10-02 15:42:22
-2025-10-02 15:42:09
-2025-10-02 15:41:47
-2025-10-02 15:41:55
-2025-10-02 15:41:47
-2025-10-02 15:42:05
-2025-10-02 15:41:49
-2025-10-02 15:41:26
-2025-10-02 15:42:04
-2025-10-02 15:41:42
-2025-10-02 15:42:17
-2025-10-02 15:41:53
-2025-10-02 15:41:33
-2025-10-02 15:41:56
-2025-10-02 15:41:49
-2025-10-02 15:41:54
-2025-10-02 15:41:27
-2025-10-02 15:42:09
-2025-10-02 15:41:40
-2025-10-02 15:41:50
-2025-10-02 15:41:41
-2025-10-02 15:41:46
-2025-10-02 15:41:32
-2025-10-02 15:41:39
-2025-10-02 15:42:21
-2025-10-02 15:41:37
-2025-10-02 15:42:23
-2025-10-02 15:41:47
-2025-10-02 15:41:49
-2025-10-02 15:42:18
-2025-10-02 15:41:37
-2025-10-02 15:42:20
-2025-10-02 15:42:01
-2025-10-02 15:42:09
-2025-10-02 15:42:23
-2025-10-02 15:41:54
-2025-10-02 15:41:36
-2025-10-02 15:42:16
-2025-10-02 15:41:27
-2025-10-02 15:42:02
-2025-10-02 15:42:24
-2025-10-02 15:42:03
-2025-10-02 15:42:23
-2025-10-02 15:41:55
-2025-10-02 15:41:56
-2025-10-02 15:41:49
-2025-10-02 15:41:33
-2025-10-02 15:41:48
-2025-10-02 15:42:16
-2025-10-02 15:42:09
-2025-10-02 15:42:26
-2025-10-02 15:41:51
-2025-10-02 15:41:27
-2025-10-02 15:41:41
-2025-10-02 15:41:27
-2025-10-02 15:41:41
-2025-10-02 15:42:12
-2025-10-02 15:42:26
-2025-10-02 15:42:23
-2025-10-02 15:42:22
-2025-10-02 15:42:05
-2025-10-02 15:42:24
-2025-10-02 15:41:35
-2025-10-02 15:42:23
-2025-10-02 15:41:39
-2025-10-02 15:42:01
-2025-10-02 15:41:31
-2025-10-02 15:41:44
-2025-10-02 15:41:52
-2025-10-02 15:41:33
-2025-10-02 15:42:15
-2025-10-02 15:42:23
-2025-10-02 15:42:01
-2025-10-02 15:41:42
-2025-10-02 15:41:26
-2025-10-02 15:41:42
-2025-10-02 15:42:11
-2025-10-02 15:42:06
-2025-10-02 15:41:46
-2025-10-02 15:41:54
-2025-10-02 15:42:01
-2025-10-02 15:42:00
-2025-10-02 15:41:36
-2025-10-02 15:41:44
-2025-10-02 15:42:19
-2025-10-02 15:42:14
-2025-10-02 15:41:58
-2025-10-02 15:41:32
-2025-10-02 15:41:50
-2025-10-02 15:41:26
-2025-10-02 15:42:08
-2025-10-02 15:41:29
-2025-10-02 15:42:02
-2025-10-02 15:42:25
-2025-10-02 15:41:59
-2025-10-02 15:41:36
-2025-10-02 15:41:56
-2025-10-02 15:42:09
-2025-10-02 15:41:42
-2025-10-02 15:42:26
-2025-10-02 15:42:04
-2025-10-02 15:42:06
-2025-10-02 15:41:58
-2025-10-02 15:42:25
-2025-10-02 15:41:48
-2025-10-02 15:41:27
-2025-10-02 15:41:27
-2025-10-02 15:42:06
-2025-10-02 15:41:53
-2025-10-02 15:41:47
-2025-10-02 15:41:50
-2025-10-02 15:41:41
-2025-10-02 15:41:53
-2025-10-02 15:41:31
-2025-10-02 15:41:53
-2025-10-02 15:41:58
-2025-10-02 15:41:29
-2025-10-02 15:42:24
-2025-10-02 15:41:59
-2025-10-02 15:42:22
-2025-10-02 15:41:34
-2025-10-02 15:42:25
-2025-10-02 15:41:53
-2025-10-02 15:41:37
-2025-10-02 15:42:19
-2025-10-02 15:42:16
-2025-10-02 15:42:09
-2025-10-02 15:42:18
-2025-10-02 15:41:52
-2025-10-02 15:41:29
-2025-10-02 15:42:14
-2025-10-02 15:42:20
-2025-10-02 15:41:59
-2025-10-02 15:41:41
-2025-10-02 15:41:42
-2025-10-02 15:42:21
-2025-10-02 15:41:59
-2025-10-02 15:41:35
-2025-10-02 15:41:27
-2025-10-02 15:41:38
-2025-10-02 15:41:43
-2025-10-02 15:41:43
-2025-10-02 15:41:41
-2025-10-02 15:42:02
-2025-10-02 15:41:37
-2025-10-02 15:41:44
-2025-10-02 15:41:58
-2025-10-02 15:41:37
-2025-10-02 15:42:13
-2025-10-02 15:41:48
-2025-10-02 15:42:13
-2025-10-02 15:42:15
-2025-10-02 15:42:23
-2025-10-02 15:42:03
-2025-10-02 15:41:40
-2025-10-02 15:42:25
-2025-10-02 15:41:46
-2025-10-02 15:41:38
-2025-10-02 15:42:19
-2025-10-02 15:41:36
-2025-10-02 15:42:14
-2025-10-02 15:41:35
-2025-10-02 15:42:14
-2025-10-02 15:41:41
-2025-10-02 15:41:41
-2025-10-02 15:41:48
-2025-10-02 15:42:23
-2025-10-02 15:41:30
-2025-10-02 15:42:06
-2025-10-02 15:41:44
-2025-10-02 15:41:31
-2025-10-02 15:42:18
-2025-10-02 15:42:17
-2025-10-02 15:42:19
-2025-10-02 15:41:47
-2025-10-02 15:41:45
-2025-10-02 15:41:38
-2025-10-02 15:42:24
-2025-10-02 15:42:19
-2025-10-02 15:42:21
-2025-10-02 15:41:57
-2025-10-02 15:41:36
-2025-10-02 15:41:33
-2025-10-02 15:42:24
-2025-10-02 15:41:39
-2025-10-02 15:42:15
-2025-10-02 15:42:12
-2025-10-02 15:41:53
-2025-10-02 15:41:41
-2025-10-02 15:41:40
-2025-10-02 15:42:00
-2025-10-02 15:41:41
-2025-10-02 15:41:34
-2025-10-02 15:41:29
-2025-10-02 15:41:58
-2025-10-02 15:41:34
-2025-10-02 15:42:21
-2025-10-02 15:42:25
-2025-10-02 15:41:40
-2025-10-02 15:41:46
-2025-10-02 15:41:51
-2025-10-02 15:41:37
-2025-10-02 15:41:46
-2025-10-02 15:42:06
-2025-10-02 15:42:12
-2025-10-02 15:41:59
-2025-10-02 15:42:13
-2025-10-02 15:41:30
-2025-10-02 15:42:08
-2025-10-02 15:42:15
-2025-10-02 15:41:39
-2025-10-02 15:41:45
-2025-10-02 15:41:49
-2025-10-02 15:41:36
-2025-10-02 15:41:45
-2025-10-02 15:42:17
-2025-10-02 15:42:19
-2025-10-02 15:42:08
-2025-10-02 15:41:54
-2025-10-02 15:41:32
-2025-10-02 15:42:25
-2025-10-02 15:42:07
-2025-10-02 15:42:19
-2025-10-02 15:41:30
-2025-10-02 15:41:39
-2025-10-02 15:42:11
-2025-10-02 15:41:41
-2025-10-02 15:42:06
-2025-10-02 15:41:41
-2025-10-02 15:41:37
-2025-10-02 15:41:26
-2025-10-02 15:42:24
-2025-10-02 15:42:10
-2025-10-02 15:41:49
-2025-10-02 15:41:35
-2025-10-02 15:41:32
-2025-10-02 15:41:38
-2025-10-02 15:41:41
-2025-10-02 15:41:48
-2025-10-02 15:42:24
-2025-10-02 15:41:32
-2025-10-02 15:42:04
-2025-10-02 15:41:47
-2025-10-02 15:41:35
-2025-10-02 15:42:06
-2025-10-02 15:41:48
-2025-10-02 15:41:57
-2025-10-02 15:41:59
-2025-10-02 15:41:31
-2025-10-02 15:42:09
-2025-10-02 15:42:24
-2025-10-02 15:41:41
-2025-10-02 15:41:36
-2025-10-02 15:41:52
-2025-10-02 15:42:08
-2025-10-02 15:42:09
-2025-10-02 15:42:17
-2025-10-02 15:41:59
-2025-10-02 15:42:17
-2025-10-02 15:42:04
-2025-10-02 15:42:08
-2025-10-02 15:41:44
-2025-10-02 15:41:51
-2025-10-02 15:41:51
-2025-10-02 15:42:03
-2025-10-02 15:41:29
-2025-10-02 15:42:14
-2025-10-02 15:42:25
-2025-10-02 15:42:17
-2025-10-02 15:42:23
-2025-10-02 15:41:46
-2025-10-02 15:41:40
-2025-10-02 15:42:15
-2025-10-02 15:41:42
-2025-10-02 15:41:34
-2025-10-02 15:41:35
-2025-10-02 15:41:59
-2025-10-02 15:42:15
-2025-10-02 15:41:38
-2025-10-02 15:41:48
-2025-10-02 15:41:37
-2025-10-02 15:42:11
-2025-10-02 15:41:47
-2025-10-02 15:41:56
-2025-10-02 15:41:58
-2025-10-02 15:42:25
-2025-10-02 15:41:45
-2025-10-02 15:42:23
-2025-10-02 15:41:39
-2025-10-02 15:41:49
-2025-10-02 15:42:01
-2025-10-02 15:41:49
-2025-10-02 15:42:25
-2025-10-02 15:42:00
-2025-10-02 15:41:33
-2025-10-02 15:41:48
-2025-10-02 15:41:56
-2025-10-02 15:41:40
-2025-10-02 15:42:01
-2025-10-02 15:42:22
-2025-10-02 15:41:52
-2025-10-02 15:41:30
-2025-10-02 15:41:42
-2025-10-02 15:42:05
-2025-10-02 15:41:55
-2025-10-02 15:42:08
-2025-10-02 15:41:36
-2025-10-02 15:42:04
-2025-10-02 15:41:30
-2025-10-02 15:41:42
-2025-10-02 15:41:54
-2025-10-02 15:42:06
-2025-10-02 15:41:59
-2025-10-02 15:42:08
-2025-10-02 15:42:04
-2025-10-02 15:41:55
-2025-10-02 15:41:48
-2025-10-02 15:41:43
-2025-10-02 15:41:28
-2025-10-02 15:42:01
-2025-10-02 15:42:18
-2025-10-02 15:42:01
-2025-10-02 15:42:24
-2025-10-02 15:41:37
-2025-10-02 15:42:23
-2025-10-02 15:41:32
-2025-10-02 15:42:01
-2025-10-02 15:42:13
-2025-10-02 15:41:39
-2025-10-02 15:42:16
-2025-10-02 15:41:30
-2025-10-02 15:41:37
-2025-10-02 15:41:42
-2025-10-02 15:42:14
-2025-10-02 15:42:13
-2025-10-02 15:41:55
-2025-10-02 15:41:34
-2025-10-02 15:42:15
-2025-10-02 15:42:01
-2025-10-02 15:41:33
-2025-10-02 15:42:22
-2025-10-02 15:42:19
-2025-10-02 15:42:05
-2025-10-02 15:41:31
-2025-10-02 15:42:20
-2025-10-02 15:42:22
-2025-10-02 15:41:45
-2025-10-02 15:42:18
-2025-10-02 15:41:32
-2025-10-02 15:41:39
-2025-10-02 15:41:54
-2025-10-02 15:41:43
-2025-10-02 15:41:38
-2025-10-02 15:41:36
-2025-10-02 15:41:48
-2025-10-02 15:41:40
-2025-10-02 15:41:41
-2025-10-02 15:42:04
-2025-10-02 15:42:02
-2025-10-02 15:41:52
-2025-10-02 15:41:59
-2025-10-02 15:41:50
-2025-10-02 15:42:05
-2025-10-02 15:42:09
-2025-10-02 15:41:27
-2025-10-02 15:41:47
-2025-10-02 15:41:51
-2025-10-02 15:42:23
-2025-10-02 15:42:11
-2025-10-02 15:42:11
-2025-10-02 15:41:26
-2025-10-02 15:42:01
-2025-10-02 15:42:17
-2025-10-02 15:42:04
-2025-10-02 15:41:56
-2025-10-02 15:42:25
-2025-10-02 15:41:34
-2025-10-02 15:41:40
-2025-10-02 15:41:47
-2025-10-02 15:41:26
-2025-10-02 15:41:43
-2025-10-02 15:42:19
-2025-10-02 15:42:22
-2025-10-02 15:42:00
-2025-10-02 15:42:17
-2025-10-02 15:42:01
-2025-10-02 15:41:44
-2025-10-02 15:42:25
-2025-10-02 15:42:12
-2025-10-02 15:42:17
-2025-10-02 15:41:27
-2025-10-02 15:42:13
-2025-10-02 15:41:57
-2025-10-02 15:41:47
-2025-10-02 15:42:21
-2025-10-02 15:42:23
-2025-10-02 15:42:14
-2025-10-02 15:42:07
-2025-10-02 15:41:40
-2025-10-02 15:41:31
-2025-10-02 15:42:24
-2025-10-02 15:42:15
-2025-10-02 15:42:17
-2025-10-02 15:42:19
-2025-10-02 15:41:34
-2025-10-02 15:42:24
-2025-10-02 15:42:22
-2025-10-02 15:41:54
-2025-10-02 15:41:34
-2025-10-02 15:41:57
-2025-10-02 15:41:39
-2025-10-02 15:42:02
-2025-10-02 15:42:18
-2025-10-02 15:41:44
-2025-10-02 15:41:43
-2025-10-02 15:41:45
-2025-10-02 15:41:56
-2025-10-02 15:41:27
-2025-10-02 15:41:42
-2025-10-02 15:42:24
-2025-10-02 15:41:56
-2025-10-02 15:41:46
-2025-10-02 15:42:23
-2025-10-02 15:42:20
-2025-10-02 15:42:03
-2025-10-02 15:42:06
-2025-10-02 15:41:51
-2025-10-02 15:42:21
-2025-10-02 15:41:47
-2025-10-02 15:41:37
-2025-10-02 15:42:00
-2025-10-02 15:42:00
-2025-10-02 15:42:26
-2025-10-02 15:42:16
-2025-10-02 15:41:55
-2025-10-02 15:42:00
-2025-10-02 15:41:49
-2025-10-02 15:41:45
-2025-10-02 15:42:14
-2025-10-02 15:42:12
-2025-10-02 15:41:50
-2025-10-02 15:41:31
-2025-10-02 15:41:55
-2025-10-02 15:42:11
-2025-10-02 15:41:26
-2025-10-02 15:42:14
-2025-10-02 15:41:34
-2025-10-02 15:42:14
-2025-10-02 15:42:17
-2025-10-02 15:41:38
-2025-10-02 15:42:16
-2025-10-02 15:42:01
-2025-10-02 15:41:51
-2025-10-02 15:42:00
-2025-10-02 15:41:31
-2025-10-02 15:42:25
-2025-10-02 15:42:00
-2025-10-02 15:41:42
-2025-10-02 15:41:54
-2025-10-02 15:42:11
-2025-10-02 15:41:38
-2025-10-02 15:42:21
-2025-10-02 15:41:52
-2025-10-02 15:41:43
-2025-10-02 15:42:07
-2025-10-02 15:41:44
-2025-10-02 15:42:07
-2025-10-02 15:42:23
-2025-10-02 15:41:43
-2025-10-02 15:41:36
-2025-10-02 15:42:13
-2025-10-02 15:42:24
-2025-10-02 15:41:55
-2025-10-02 15:41:36
-2025-10-02 15:42:01
-2025-10-02 15:42:02
-2025-10-02 15:42:25
-2025-10-02 15:41:41
-2025-10-02 15:41:41
-2025-10-02 15:41:35
-2025-10-02 15:41:51
-2025-10-02 15:41:57
-2025-10-02 15:42:25
-2025-10-02 15:41:54
-2025-10-02 15:42:26
-2025-10-02 15:42:07
-2025-10-02 15:42:12
-2025-10-02 15:41:27
-2025-10-02 15:41:47
-2025-10-02 15:42:01
-2025-10-02 15:42:20
-2025-10-02 15:42:02
-2025-10-02 15:42:15
-2025-10-02 15:42:05
-2025-10-02 15:41:40
-2025-10-02 15:42:15
-2025-10-02 15:42:24
-2025-10-02 15:42:12
-2025-10-02 15:41:26
-2025-10-02 15:41:48
-2025-10-02 15:41:45
-2025-10-02 15:42:14
-2025-10-02 15:42:14
-2025-10-02 15:41:56
-2025-10-02 15:41:51
-2025-10-02 15:42:13
-2025-10-02 15:41:27
-2025-10-02 15:41:59
-2025-10-02 15:41:58
-2025-10-02 15:41:46
-2025-10-02 15:42:11
-2025-10-02 15:41:33
-2025-10-02 15:42:08
-2025-10-02 15:41:33
-2025-10-02 15:41:27
-2025-10-02 15:41:58
-2025-10-02 15:41:37
-2025-10-02 15:42:10
-2025-10-02 15:42:23
-2025-10-02 15:42:12
-2025-10-02 15:42:12
-2025-10-02 15:41:57
-2025-10-02 15:42:25
-2025-10-02 15:41:39
-2025-10-02 15:42:26
-2025-10-02 15:41:41
-2025-10-02 15:41:46
-2025-10-02 15:42:05
-2025-10-02 15:42:06
-2025-10-02 15:41:38
-2025-10-02 15:42:26
-2025-10-02 15:41:47
-2025-10-02 15:42:13
-2025-10-02 15:42:05
-2025-10-02 15:42:07
-2025-10-02 15:42:02
-2025-10-02 15:42:02
-2025-10-02 15:41:30
-2025-10-02 15:42:23
-2025-10-02 15:41:56
-2025-10-02 15:42:21
-2025-10-02 15:42:01
-2025-10-02 15:41:41
-2025-10-02 15:41:41
-2025-10-02 15:41:57
-2025-10-02 15:41:47
-2025-10-02 15:42:15
-2025-10-02 15:42:13
-2025-10-02 15:42:12
-2025-10-02 15:42:08
-2025-10-02 15:42:17
-2025-10-02 15:42:18
-2025-10-02 15:41:42
-2025-10-02 15:41:32
-2025-10-02 15:41:48
-2025-10-02 15:41:58
-2025-10-02 15:41:54
-2025-10-02 15:42:10
-2025-10-02 15:42:14
-2025-10-02 15:41:53
-2025-10-02 15:42:06
-2025-10-02 15:42:21
-2025-10-02 15:41:40
-2025-10-02 15:41:53
-2025-10-02 15:42:07
-2025-10-02 15:41:32
-2025-10-02 15:41:40
-2025-10-02 15:41:56
-2025-10-02 15:42:08
-2025-10-02 15:42:24
-2025-10-02 15:42:24
-2025-10-02 15:42:05
-2025-10-02 15:42:08
-2025-10-02 15:41:58
-2025-10-02 15:42:05
-2025-10-02 15:41:49
-2025-10-02 15:42:23
-2025-10-02 15:41:35
-2025-10-02 15:41:35
-2025-10-02 15:41:46
-2025-10-02 15:41:44
-2025-10-02 15:41:43
-2025-10-02 15:41:54
-2025-10-02 15:42:18
-2025-10-02 15:42:16
-2025-10-02 15:41:48
-2025-10-02 15:41:34
-2025-10-02 15:42:14
-2025-10-02 15:42:18
-2025-10-02 15:41:34
-2025-10-02 15:42:14
-2025-10-02 15:42:22
-2025-10-02 15:41:54
-2025-10-02 15:42:09
-2025-10-02 15:41:29
-2025-10-02 15:42:01
-2025-10-02 15:41:52
-2025-10-02 15:41:26
-2025-10-02 15:41:31
-2025-10-02 15:42:21
-2025-10-02 15:41:49
-2025-10-02 15:41:40
-2025-10-02 15:41:35
-2025-10-02 15:42:16
-2025-10-02 15:41:26
-2025-10-02 15:42:17
-2025-10-02 15:41:43
-2025-10-02 15:41:38
-2025-10-02 15:42:23
-2025-10-02 15:42:24
-2025-10-02 15:41:30
-2025-10-02 15:41:35
-2025-10-02 15:41:52
-2025-10-02 15:41:40
-2025-10-02 15:42:21
-2025-10-02 15:42:13
-2025-10-02 15:41:53
-2025-10-02 15:42:25
-2025-10-02 15:41:57
-2025-10-02 15:42:03
-2025-10-02 15:42:03
-2025-10-02 15:42:08
-2025-10-02 15:41:53
-2025-10-02 15:41:53
-2025-10-02 15:41:33
-2025-10-02 15:42:11
-2025-10-02 15:42:08
-2025-10-02 15:42:00
-2025-10-02 15:42:14
-2025-10-02 15:42:13
-2025-10-02 15:42:24
-2025-10-02 15:41:40
-2025-10-02 15:41:48
-2025-10-02 15:41:52
-2025-10-02 15:41:28
-2025-10-02 15:42:25
-2025-10-02 15:41:27
-2025-10-02 15:41:53
-2025-10-02 15:42:08
-2025-10-02 15:42:15
-2025-10-02 15:42:06
-2025-10-02 15:41:31
-2025-10-02 15:42:10
-2025-10-02 15:41:28
-2025-10-02 15:42:09
-2025-10-02 15:42:11
-2025-10-02 15:42:01
-2025-10-02 15:42:17
-2025-10-02 15:41:42
-2025-10-02 15:41:44
-2025-10-02 15:41:34
-2025-10-02 15:42:20
-2025-10-02 15:42:07
-2025-10-02 15:42:23
-2025-10-02 15:42:10
-2025-10-02 15:41:49
-2025-10-02 15:41:42
-2025-10-02 15:41:44
-2025-10-02 15:41:31
-2025-10-02 15:42:03
-2025-10-02 15:41:28
-2025-10-02 15:41:57
-2025-10-02 15:41:34
-2025-10-02 15:41:27
-2025-10-02 15:42:23
-2025-10-02 15:42:04
-2025-10-02 15:41:37
-2025-10-02 15:42:00
-2025-10-02 15:42:03
-2025-10-02 15:41:56
-2025-10-02 15:41:59
-2025-10-02 15:41:50
-2025-10-02 15:42:17
-2025-10-02 15:41:40
-2025-10-02 15:41:37
-2025-10-02 15:41:47
-2025-10-02 15:42:20
-2025-10-02 15:41:50
-2025-10-02 15:41:35
-2025-10-02 15:41:28
-2025-10-02 15:41:33
-2025-10-02 15:41:49
-2025-10-02 15:42:03
-2025-10-02 15:41:33
-2025-10-02 15:41:50
-2025-10-02 15:41:52
-2025-10-02 15:41:30
-2025-10-02 15:41:48
-2025-10-02 15:41:59
-2025-10-02 15:42:11
-2025-10-02 15:42:02
-2025-10-02 15:42:10
-2025-10-02 15:42:07
-2025-10-02 15:42:14
-2025-10-02 15:41:37
-2025-10-02 15:41:44
-2025-10-02 15:42:21
-2025-10-02 15:42:26
-2025-10-02 15:41:30
-2025-10-02 15:41:59
-2025-10-02 15:41:41
-2025-10-02 15:41:32
-2025-10-02 15:42:25
-2025-10-02 15:41:40
-2025-10-02 15:42:05
-2025-10-02 15:42:08
-2025-10-02 15:42:00
-2025-10-02 15:41:28
-2025-10-02 15:41:29
-2025-10-02 15:42:14
-2025-10-02 15:41:35
-2025-10-02 15:41:59
-2025-10-02 15:41:47
-2025-10-02 15:42:00
-2025-10-02 15:42:12
-2025-10-02 15:42:16
-2025-10-02 15:41:47
-2025-10-02 15:42:15
-2025-10-02 15:42:00
-2025-10-02 15:42:20
-2025-10-02 15:42:05
-2025-10-02 15:41:48
-2025-10-02 15:42:26
-2025-10-02 15:42:18
-2025-10-02 15:41:54
-2025-10-02 15:41:43
-2025-10-02 15:41:30
-2025-10-02 15:41:36
-2025-10-02 15:41:27
-2025-10-02 15:41:32
-2025-10-02 15:41:29
-2025-10-02 15:42:11
-2025-10-02 15:41:59
-2025-10-02 15:42:09
-2025-10-02 15:42:22
-2025-10-02 15:41:47
-2025-10-02 15:42:04
-2025-10-02 15:42:25
-2025-10-02 15:41:44
-2025-10-02 15:42:20
-2025-10-02 15:42:08
-2025-10-02 15:41:31
-2025-10-02 15:42:08
-2025-10-02 15:41:52
-2025-10-02 15:42:24
-2025-10-02 15:42:18
-2025-10-02 15:42:23
-2025-10-02 15:42:21
-2025-10-02 15:41:34
-2025-10-02 15:41:34
-2025-10-02 15:41:53
-2025-10-02 15:41:27
-2025-10-02 15:42:05
-2025-10-02 15:42:23
-2025-10-02 15:41:45
-2025-10-02 15:41:54
-2025-10-02 15:41:32
24 B2025-10-02 15:36:30
2.6 KiB2025-10-02 15:36:31
3.3 KiB2025-10-02 15:36:31
6.0 KiB2025-10-02 15:36:31
6.7 KiB2025-04-22 17:10:45
6.7 KiB2025-10-02 15:36:31
6.7 KiB2025-04-22 17:10:45
6.8 KiB2025-10-02 15:36:31
6.9 KiB2025-08-18 15:37:48
7.0 KiB2025-10-02 15:36:31
7.1 KiB2025-10-02 15:36:31
7.1 KiB2025-10-02 15:36:31
7.5 KiB2025-10-02 15:36:31
8.1 KiB2025-10-02 15:36:31
11.7 KiB2025-10-02 15:36:31
241.0 KiB2025-10-02 15:36:30
387.2 KiB2025-10-02 15:36:30
469.2 KiB2025-08-18 15:37:48
523.9 KiB2025-10-02 15:36:30
524.8 KiB2025-10-02 15:36:31
529.4 KiB2025-10-02 15:36:31
605.7 KiB2025-04-22 17:10:45
605.7 KiB2025-10-02 15:36:31
616.3 KiB2025-04-22 17:10:45
618.1 KiB2025-10-02 15:36:31
1011.3 KiB2025-10-02 15:36:30
1.3 MiB2025-10-02 15:42:40
2.5 MiB2025-10-02 15:42:40
3.0 MiB2025-10-02 15:42:28
3.2 MiB2025-04-22 17:20:39
3.3 MiB2025-04-22 17:20:44
3.4 MiB2025-10-02 15:42:30
3.4 MiB2025-10-02 15:42:35
3.4 MiB2025-08-18 15:47:52
13.4 MiB2025-10-02 15:42:54
79.5 MiB2025-10-02 15:43:56