Package: seqpac Version: 1.6.0 Command: F:\biocbuild\bbs-3.20-bioc\R\bin\R.exe CMD INSTALL seqpac StartedAt: 2025-04-03 11:20:59 -0400 (Thu, 03 Apr 2025) EndedAt: 2025-04-03 11:21:27 -0400 (Thu, 03 Apr 2025) EllapsedTime: 27.9 seconds RetCode: 0 Status: OK