Package: seqpac Version: 1.6.0 Command: chmod a+r seqpac -R && F:\biocbuild\bbs-3.20-bioc\R\bin\R.exe CMD build --keep-empty-dirs --no-resave-data seqpac StartedAt: 2025-04-03 11:35:28 -0400 (Thu, 03 Apr 2025) EndedAt: 2025-04-03 11:39:19 -0400 (Thu, 03 Apr 2025) EllapsedTime: 231.1 seconds RetCode: 0 Status: OK PackageFile: seqpac_1.6.0.tar.gz PackageFileSize: 2.587 MiB