Package: rnaseqGene Version: 1.30.0 Command: F:\biocbuild\bbs-3.20-bioc\R\bin\R.exe CMD INSTALL rnaseqGene StartedAt: 2025-04-03 11:21:40 -0400 (Thu, 03 Apr 2025) EndedAt: 2025-04-03 11:22:31 -0400 (Thu, 03 Apr 2025) EllapsedTime: 50.0 seconds RetCode: 0 Status: OK