Package: msdata Version: 0.46.0 Command: /home/biocbuild/bbs-3.20-bioc/R/bin/R CMD build --keep-empty-dirs --no-resave-data msdata StartedAt: 2025-04-01 11:27:37 -0400 (Tue, 01 Apr 2025) EndedAt: 2025-04-01 11:28:29 -0400 (Tue, 01 Apr 2025) EllapsedTime: 52.2 seconds RetCode: 0 Status: OK PackageFile: msdata_0.46.0.tar.gz PackageFileSize: 426.4 MiB