Package: golubEsets Version: 1.48.0 Command: /home/biocbuild/bbs-3.20-bioc/R/bin/R CMD check --install=check:golubEsets.install-out.txt --library=/home/biocbuild/bbs-3.20-bioc/R/site-library --timings golubEsets_1.48.0.tar.gz StartedAt: 2025-04-01 12:04:19 -0400 (Tue, 01 Apr 2025) EndedAt: 2025-04-01 12:04:36 -0400 (Tue, 01 Apr 2025) EllapsedTime: 17.4 seconds RetCode: 0 Status: OK CheckDir: golubEsets.Rcheck Warnings: 0