Package: cnvGSAdata Version: 1.42.0 Command: /home/biocbuild/bbs-3.20-bioc/R/bin/R CMD check --install=check:cnvGSAdata.install-out.txt --library=/home/biocbuild/bbs-3.20-bioc/R/site-library --timings cnvGSAdata_1.42.0.tar.gz StartedAt: 2025-04-01 11:48:43 -0400 (Tue, 01 Apr 2025) EndedAt: 2025-04-01 11:49:37 -0400 (Tue, 01 Apr 2025) EllapsedTime: 53.9 seconds RetCode: 0 Status: WARNINGS CheckDir: cnvGSAdata.Rcheck Warnings: 1