Package: rGenomeTracksData Version: 0.99.0 Command: /home/biocbuild/bbs-3.20-bioc/R/bin/R CMD INSTALL rGenomeTracksData StartedAt: 2025-04-02 06:30:22 -0400 (Wed, 02 Apr 2025) EndedAt: 2025-04-02 06:30:31 -0400 (Wed, 02 Apr 2025) EllapsedTime: 8.8 seconds RetCode: 0 Status: OK