Package: BiocBookDemo Version: 1.4.0 Command: /home/biocbuild/bbs-3.20-bioc/R/bin/R CMD INSTALL BiocBookDemo StartedAt: 2025-04-02 06:15:07 -0400 (Wed, 02 Apr 2025) EndedAt: 2025-04-02 06:15:08 -0400 (Wed, 02 Apr 2025) EllapsedTime: 0.8 seconds RetCode: 0 Status: OK