Package: zellkonverter Version: 1.16.0 Command: F:\biocbuild\bbs-3.20-bioc\R\bin\R.exe CMD check --no-multiarch --test-dir=longtests --no-stop-on-test-error --no-codoc --no-examples --no-manual --ignore-vignettes --check-subdirs=no zellkonverter_1.16.0.tar.gz StartedAt: 2025-03-29 16:55:49 -0400 (Sat, 29 Mar 2025) EndedAt: 2025-03-29 17:14:09 -0400 (Sat, 29 Mar 2025) EllapsedTime: 1100.0 seconds RetCode: 1 Status: ERROR CheckDir: zellkonverter.Rcheck Warnings: NA