Package: ginmappeR Version: 1.2.3 Command: F:\biocbuild\bbs-3.20-bioc\R\bin\R.exe CMD check --no-multiarch --test-dir=longtests --no-stop-on-test-error --no-codoc --no-examples --no-manual --ignore-vignettes --check-subdirs=no ginmappeR_1.2.3.tar.gz StartedAt: 2025-03-29 16:39:20 -0400 (Sat, 29 Mar 2025) EndedAt: 2025-03-29 16:45:00 -0400 (Sat, 29 Mar 2025) EllapsedTime: 339.7 seconds RetCode: 1 Status: ERROR CheckDir: ginmappeR.Rcheck Warnings: NA