Package: APAlyzer Version: 1.20.0 Command: F:\biocbuild\bbs-3.20-bioc\R\bin\R.exe CMD check --no-multiarch --test-dir=longtests --no-stop-on-test-error --no-codoc --no-examples --no-manual --ignore-vignettes --check-subdirs=no APAlyzer_1.20.0.tar.gz StartedAt: 2025-03-29 16:03:05 -0400 (Sat, 29 Mar 2025) EndedAt: 2025-03-29 16:07:02 -0400 (Sat, 29 Mar 2025) EllapsedTime: 236.6 seconds RetCode: 1 Status: ERROR CheckDir: APAlyzer.Rcheck Warnings: NA