Package: zlibbioc Version: 1.52.0 Command: /Library/Frameworks/R.framework/Resources/bin/R CMD build --keep-empty-dirs --no-resave-data zlibbioc StartedAt: 2025-03-31 22:55:46 -0400 (Mon, 31 Mar 2025) EndedAt: 2025-03-31 22:56:00 -0400 (Mon, 31 Mar 2025) EllapsedTime: 14.0 seconds RetCode: 0 Status: OK PackageFile: zlibbioc_1.52.0.tar.gz PackageFileSize: 373.9 KiB