Package: zitools Version: 1.0.0 Command: /home/biocbuild/R/R/bin/R CMD INSTALL zitools StartedAt: 2025-03-31 20:58:02 -0000 (Mon, 31 Mar 2025) EndedAt: 2025-03-31 20:58:47 -0000 (Mon, 31 Mar 2025) EllapsedTime: 45.2 seconds RetCode: 0 Status: OK