Package: zitools Version: 1.0.0 Command: /home/biocbuild/R/R/bin/R CMD build --keep-empty-dirs --no-resave-data zitools StartedAt: 2025-04-01 03:32:57 -0000 (Tue, 01 Apr 2025) EndedAt: 2025-04-01 03:35:15 -0000 (Tue, 01 Apr 2025) EllapsedTime: 138.9 seconds RetCode: 0 Status: OK PackageFile: zitools_1.0.0.tar.gz PackageFileSize: 236.9 KiB