Package: zitools Version: 1.0.0 Command: rm -rf zitools.buildbin-libdir && mkdir zitools.buildbin-libdir && F:\biocbuild\bbs-3.20-bioc\R\bin\R.exe CMD INSTALL --build --library=zitools.buildbin-libdir zitools_1.0.0.tar.gz StartedAt: 2025-04-01 09:29:57 -0400 (Tue, 01 Apr 2025) EndedAt: 2025-04-01 09:30:54 -0400 (Tue, 01 Apr 2025) EllapsedTime: 56.9 seconds RetCode: 0 Status: OK PackageFile: zitools_1.0.0.zip PackageFileSize: 768.8 KiB