Package: zitools Version: 1.0.0 Command: /Library/Frameworks/R.framework/Resources/bin/R CMD build --keep-empty-dirs --no-resave-data zitools StartedAt: 2025-04-01 10:10:51 -0400 (Tue, 01 Apr 2025) EndedAt: 2025-04-01 10:13:04 -0400 (Tue, 01 Apr 2025) EllapsedTime: 133.9 seconds RetCode: 0 Status: OK PackageFile: zitools_1.0.0.tar.gz PackageFileSize: 241.7 KiB