Package: zinbwave Version: 1.28.0 Command: /home/biocbuild/R/R/bin/R CMD build --keep-empty-dirs --no-resave-data zinbwave StartedAt: 2025-04-01 03:32:23 -0000 (Tue, 01 Apr 2025) EndedAt: 2025-04-01 03:35:06 -0000 (Tue, 01 Apr 2025) EllapsedTime: 162.2 seconds RetCode: 0 Status: OK PackageFile: zinbwave_1.28.0.tar.gz PackageFileSize: 421.5 KiB