Package: zinbwave Version: 1.28.0 Command: rm -rf zinbwave.buildbin-libdir && mkdir zinbwave.buildbin-libdir && /Users/biocbuild/BBS/utils/build-universal.sh zinbwave_1.28.0.tar.gz /Library/Frameworks/R.framework/Resources/bin/R zinbwave.buildbin-libdir StartedAt: 2025-04-01 13:00:19 -0400 (Tue, 01 Apr 2025) EndedAt: 2025-04-01 13:01:45 -0400 (Tue, 01 Apr 2025) EllapsedTime: 85.6 seconds RetCode: 0 Status: OK PackageFile: zinbwave_1.28.0.tgz PackageFileSize: 1.018 MiB