Package: zFPKM Version: 1.28.0 Command: /home/biocbuild/R/R/bin/R CMD INSTALL zFPKM StartedAt: 2025-03-31 20:21:31 -0000 (Mon, 31 Mar 2025) EndedAt: 2025-03-31 20:21:57 -0000 (Mon, 31 Mar 2025) EllapsedTime: 26.9 seconds RetCode: 0 Status: OK