Package: zFPKM Version: 1.28.0 Command: rm -rf zFPKM.buildbin-libdir && mkdir zFPKM.buildbin-libdir && /Users/biocbuild/BBS/utils/build-universal.sh zFPKM_1.28.0.tar.gz /Library/Frameworks/R.framework/Resources/bin/R zFPKM.buildbin-libdir StartedAt: 2024-11-20 04:58:11 -0500 (Wed, 20 Nov 2024) EndedAt: 2024-11-20 04:58:41 -0500 (Wed, 20 Nov 2024) EllapsedTime: 30.4 seconds RetCode: 0 Status: OK PackageFile: zFPKM_1.28.0.tgz PackageFileSize: 222.5 KiB