Package: yamss Version: 1.32.0 Command: rm -rf yamss.buildbin-libdir && mkdir yamss.buildbin-libdir && /Users/biocbuild/BBS/utils/build-universal.sh yamss_1.32.0.tar.gz /Library/Frameworks/R.framework/Resources/bin/R yamss.buildbin-libdir StartedAt: 2025-04-02 16:50:13 -0400 (Wed, 02 Apr 2025) EndedAt: 2025-04-02 16:50:48 -0400 (Wed, 02 Apr 2025) EllapsedTime: 35.1 seconds RetCode: 0 Status: OK PackageFile: yamss_1.32.0.tgz PackageFileSize: 731.5 KiB