Package: xmapbridge Version: 1.64.0 Command: /Library/Frameworks/R.framework/Resources/bin/R CMD check --install=check:xmapbridge.install-out.txt --library=/Library/Frameworks/R.framework/Resources/library --no-vignettes --timings xmapbridge_1.64.0.tar.gz StartedAt: 2025-04-01 10:56:15 -0400 (Tue, 01 Apr 2025) EndedAt: 2025-04-01 10:57:06 -0400 (Tue, 01 Apr 2025) EllapsedTime: 51.0 seconds RetCode: 0 Status: OK CheckDir: xmapbridge.Rcheck Warnings: 0