Package: xcore Version: 1.10.0 Command: /home/biocbuild/R/R/bin/R CMD build --keep-empty-dirs --no-resave-data xcore StartedAt: 2025-04-01 03:30:34 -0000 (Tue, 01 Apr 2025) EndedAt: 2025-04-01 03:32:23 -0000 (Tue, 01 Apr 2025) EllapsedTime: 109.2 seconds RetCode: 0 Status: OK PackageFile: xcore_1.10.0.tar.gz PackageFileSize: 2.366 MiB