Package: xcore Version: 1.10.0 Command: chmod a+r xcore -R && F:\biocbuild\bbs-3.20-bioc\R\bin\R.exe CMD build --keep-empty-dirs --no-resave-data xcore StartedAt: 2025-03-31 22:36:52 -0400 (Mon, 31 Mar 2025) EndedAt: 2025-03-31 22:39:03 -0400 (Mon, 31 Mar 2025) EllapsedTime: 131.2 seconds RetCode: 0 Status: OK PackageFile: xcore_1.10.0.tar.gz PackageFileSize: 2.333 MiB