Package: xcms Version: 4.4.0 Command: chmod a+r xcms -R && F:\biocbuild\bbs-3.20-bioc\R\bin\R.exe CMD build --keep-empty-dirs --no-resave-data xcms StartedAt: 2025-03-31 22:36:50 -0400 (Mon, 31 Mar 2025) EndedAt: 2025-03-31 22:43:50 -0400 (Mon, 31 Mar 2025) EllapsedTime: 419.5 seconds RetCode: 0 Status: OK PackageFile: xcms_4.4.0.tar.gz PackageFileSize: 4.357 MiB