Package: xcms Version: 4.4.0 Command: rm -rf xcms.buildbin-libdir && mkdir xcms.buildbin-libdir && F:\biocbuild\bbs-3.20-bioc\R\bin\R.exe CMD INSTALL --build --library=xcms.buildbin-libdir xcms_4.4.0.tar.gz StartedAt: 2025-04-01 09:29:05 -0400 (Tue, 01 Apr 2025) EndedAt: 2025-04-01 09:31:59 -0400 (Tue, 01 Apr 2025) EllapsedTime: 173.8 seconds RetCode: 0 Status: OK PackageFile: xcms_4.4.0.zip PackageFileSize: 7.497 MiB