Package: xcms Version: 4.4.0 Command: /Library/Frameworks/R.framework/Resources/bin/R CMD build --keep-empty-dirs --no-resave-data xcms StartedAt: 2025-03-31 22:53:50 -0400 (Mon, 31 Mar 2025) EndedAt: 2025-03-31 23:01:33 -0400 (Mon, 31 Mar 2025) EllapsedTime: 463.0 seconds RetCode: 0 Status: OK PackageFile: xcms_4.4.0.tar.gz PackageFileSize: 9.23 MiB