Package: xcms Version: 4.4.0 Command: rm -rf xcms.buildbin-libdir && mkdir xcms.buildbin-libdir && /Users/biocbuild/BBS/utils/build-universal.sh xcms_4.4.0.tar.gz /Library/Frameworks/R.framework/Resources/bin/R xcms.buildbin-libdir StartedAt: 2025-04-01 12:59:49 -0400 (Tue, 01 Apr 2025) EndedAt: 2025-04-01 13:02:59 -0400 (Tue, 01 Apr 2025) EllapsedTime: 190.1 seconds RetCode: 0 Status: OK PackageFile: xcms_4.4.0.tgz PackageFileSize: 12.1 MiB