Package: xcms Version: 4.4.0 Command: /Library/Frameworks/R.framework/Resources/bin/R CMD build --keep-empty-dirs --no-resave-data xcms StartedAt: 2025-04-01 10:03:23 -0400 (Tue, 01 Apr 2025) EndedAt: 2025-04-01 10:09:02 -0400 (Tue, 01 Apr 2025) EllapsedTime: 338.8 seconds RetCode: 0 Status: OK PackageFile: xcms_4.4.0.tar.gz PackageFileSize: 9.259 MiB