Package: widgetTools Version: 1.84.0 Command: /home/biocbuild/R/R/bin/R CMD INSTALL widgetTools StartedAt: 2025-03-31 20:12:27 -0000 (Mon, 31 Mar 2025) EndedAt: 2025-03-31 20:13:10 -0000 (Mon, 31 Mar 2025) EllapsedTime: 43.0 seconds RetCode: 0 Status: OK