Package: widgetTools Version: 1.84.0 Command: /home/biocbuild/R/R/bin/R CMD build --keep-empty-dirs --no-resave-data widgetTools StartedAt: 2025-04-01 03:29:47 -0000 (Tue, 01 Apr 2025) EndedAt: 2025-04-01 03:29:56 -0000 (Tue, 01 Apr 2025) EllapsedTime: 9.0 seconds RetCode: 0 Status: OK PackageFile: widgetTools_1.84.0.tar.gz PackageFileSize: 222.3 KiB