Package: widgetTools Version: 1.84.0 Command: /Library/Frameworks/R.framework/Resources/bin/R CMD build --keep-empty-dirs --no-resave-data widgetTools StartedAt: 2025-03-31 22:52:47 -0400 (Mon, 31 Mar 2025) EndedAt: 2025-03-31 22:53:08 -0400 (Mon, 31 Mar 2025) EllapsedTime: 21.4 seconds RetCode: 0 Status: OK PackageFile: widgetTools_1.84.0.tar.gz PackageFileSize: 227.4 KiB