Package: webbioc Version: 1.78.0 Command: rm -rf webbioc.buildbin-libdir && mkdir webbioc.buildbin-libdir && F:\biocbuild\bbs-3.20-bioc\R\bin\R.exe CMD INSTALL --build --library=webbioc.buildbin-libdir webbioc_1.78.0.tar.gz StartedAt: 2025-04-01 09:28:48 -0400 (Tue, 01 Apr 2025) EndedAt: 2025-04-01 09:29:14 -0400 (Tue, 01 Apr 2025) EllapsedTime: 26.1 seconds RetCode: 0 Status: OK PackageFile: webbioc_1.78.0.zip PackageFileSize: 185.4 KiB