Package: webbioc Version: 1.78.0 Command: rm -rf webbioc.buildbin-libdir && mkdir webbioc.buildbin-libdir && /Users/biocbuild/BBS/utils/build-universal.sh webbioc_1.78.0.tar.gz /Library/Frameworks/R.framework/Resources/bin/R webbioc.buildbin-libdir StartedAt: 2025-04-01 12:59:33 -0400 (Tue, 01 Apr 2025) EndedAt: 2025-04-01 13:00:19 -0400 (Tue, 01 Apr 2025) EllapsedTime: 45.9 seconds RetCode: 0 Status: OK PackageFile: webbioc_1.78.0.tgz PackageFileSize: 310.9 KiB