Package: webbioc Version: 1.78.0 Command: /Library/Frameworks/R.framework/Resources/bin/R CMD check --install=check:webbioc.install-out.txt --library=/Library/Frameworks/R.framework/Resources/library --no-vignettes --timings webbioc_1.78.0.tar.gz StartedAt: 2025-04-02 12:43:21 -0400 (Wed, 02 Apr 2025) EndedAt: 2025-04-02 12:45:03 -0400 (Wed, 02 Apr 2025) EllapsedTime: 101.5 seconds RetCode: 0 Status: OK CheckDir: webbioc.Rcheck Warnings: 0